BEGIN:VCALENDAR
VERSION:2.0
PRODID:-//ChamberMaster//Event Calendar 2.0//EN
METHOD:PUBLISH
X-PUBLISHED-TTL:P3D
REFRESH-INTERVAL:P3D
CALSCALE:GREGORIAN
BEGIN:VEVENT
DTSTART:20190905T020000Z
DTEND:20190905T040000Z
X-MICROSOFT-CDO-ALLDAYEVENT:FALSE
SUMMARY:CASABLANCA Film Screening - Mendocino Film Festival Classic Film Series
DESCRIPTION:What kind of Classic Film Series would this be without screening perhaps the most classic film of all time... CASABLANCA! Sure you may have seen it on TV and perhaps even in the cinema\, but how long ago and how many times?\n\nAdditionally\, we're certain you know a few folks who have not been fortunate enough to have experienced it on the big screen. Do you need more reasons than these to come out and see one of the most famous films of all time?!\n\nAs the trailer says - "If your looking for adventure you'll find it in Casablanca."\n\nPlease be sure to support and thank all of the Classic Film Series sponsors but especially the sponsors of Casablanca - The Bookstore in Fort Bragg\, Brewery Gulch Inn in Mendocino and KOZT FM in Fort Bragg\, as they sponsored Casablanca.
X-ALT-DESC;FMTTYPE=text/html:<p>What kind of Classic Film Series would this be without screening perhaps the most classic film of all time... <em><strong>CASABLANCA</strong></em>! Sure you may have seen it on TV and perhaps even in the cinema\, but how long ago and how many times?</p>\n\n<p>Additionally\, we&#39\;re certain you know a few folks who have not been fortunate enough to have experienced it on the big screen. Do you need more reasons than these to come out and see one of the most famous films of all time?!</p>\n\n<p><a href="https://youtu.be/jQTWfGOv1JY">As the trailer says</a> - &quot\;If your looking for adventure you&#39\;ll find it in <em>Casablanca</em>.&quot\;</p>\n\n<p>Please be sure to support and thank all of the Classic Film Series sponsors but especially the sponsors of Casablanca - <a href="https://www.facebook.com/The-Bookstore-and-Vinyl-Cafe-154778717925981/">The Bookstore</a> in Fort Bragg\, <a href="https://www.brewerygulchinn.com/">Brewery Gulch Inn</a> in Mendocino and<a href="https://www.kozt.com/"> KOZT FM</a> in Fort Bragg\, as they sponsored <em>Casablanca</em>.</p>\n
LOCATION:Coast Cinemas 135 S Franklin St\, Fort Bragg\, CA\, 95437
UID:e.2883.11952
SEQUENCE:3
DTSTAMP:20260422T043721Z
URL:http://mendocinocoast.smartcms.site/events/details/casablanca-film-screening-mendocino-film-festival-classic-film-series-11952
END:VEVENT

END:VCALENDAR
