BEGIN:VCALENDAR
VERSION:2.0
PRODID:-//ChamberMaster//Event Calendar 2.0//EN
METHOD:PUBLISH
X-PUBLISHED-TTL:P3D
REFRESH-INTERVAL:P3D
CALSCALE:GREGORIAN
BEGIN:VEVENT
DTSTART:20170803T170000Z
DTEND:20170829T000000Z
X-MICROSOFT-CDO-ALLDAYEVENT:FALSE
SUMMARY:Carolyn King\; Transitions - Wood\, Skeletonized Leaves\, Seeds & Mixed Media
DESCRIPTION:AUGUST 3 - 28 FIRST FRIDAY RECEPTION Aug 4\, 5-8PM Wine Served by Handley Cellars In August Carolyn King is having an exhibition of new work. The show\, entitled "Transitions"\, explores concepts of change and impermanence and will include sculptures made from wood\, leaf skeletons and other material found in nature\, as well as natural forms fabricated out of mixed media. Pieces include a large hollow maple wood round carved with organic shapes on both sides\, three wall hangings\, two of made from leaf skeletons and seeds\, the other of dangling grape vines with soaring bird shapes whole feathers are fashioned from bamboo leaves\, a tall spiral of pine needle ropes as well as two natural shapes fabricated out of mixed media and a flock of colorful hanging bird shapes collaged with maps/music.
X-ALT-DESC;FMTTYPE=text/html:AUGUST 3 - 28 FIRST FRIDAY RECEPTION Aug 4\, 5-8PM Wine Served by Handley Cellars In August Carolyn King is having an exhibition of new work. The show\, entitled &ldquo\;Transitions&rdquo\;\, explores concepts of change and impermanence and will include sculptures made from wood\, leaf skeletons and other material found in nature\, as well as natural forms fabricated out of mixed media. Pieces include a large hollow maple wood round carved with organic shapes on both sides\, three wall hangings\, two of made from leaf skeletons and seeds\, the other of dangling grape vines with soaring bird shapes whole feathers are fashioned from bamboo leaves\, a tall spiral of pine needle ropes as well as two natural shapes fabricated out of mixed media and a flock of colorful hanging bird shapes collaged with maps/music.
LOCATION:Partners Gallery 335 N. Franklin St\, near Laurel Fort Bragg\, CA
UID:e.2883.3771
SEQUENCE:3
DTSTAMP:20260423T232803Z
URL:http://mendocinocoast.smartcms.site/events/details/carolyn-king-transitions-wood-skeletonized-leaves-seeds-mixed-media-3771
END:VEVENT

END:VCALENDAR
