BEGIN:VCALENDAR
VERSION:2.0
PRODID:-//ChamberMaster//Event Calendar 2.0//EN
METHOD:PUBLISH
X-PUBLISHED-TTL:P3D
REFRESH-INTERVAL:P3D
CALSCALE:GREGORIAN
BEGIN:VEVENT
DTSTART:20180629T010000Z
DTEND:20180629T023000Z
X-MICROSOFT-CDO-ALLDAYEVENT:FALSE
SUMMARY:Carol McCloud\, Author Event @ Mendocino Book Co.
DESCRIPTION:Come meet beloved children's author\, Carol McCloud\, a.k.a. "the bucket lady" at The Mendocino Book Company on June 28th from 6p-7:30p. Carol will be discussing her latest book release\, "Buckets\, Dippers and Lids" and is available for questions and signing books. Come learn how the simple metaphor of a bucket\, a dipper and a lid can help you lead a kinder\, happier life.
X-ALT-DESC;FMTTYPE=text/html:Come meet beloved children&#39\;s author\, Carol McCloud\, a.k.a. &quot\;the bucket lady&quot\; at The Mendocino Book Company on June 28th from 6p-7:30p. Carol will be discussing her latest book release\, &quot\;Buckets\, Dippers and Lids&quot\; and is available for questions and signing books. Come learn how the simple metaphor of a bucket\, a dipper and a lid can help you lead a kinder\, happier life.
LOCATION:Mendocino Book Company 102 S. School Street Ukiah\, CA 95482
UID:e.2883.9045
SEQUENCE:3
DTSTAMP:20260423T055846Z
URL:http://mendocinocoast.smartcms.site/events/details/carol-mccloud-author-event-mendocino-book-co-9045
END:VEVENT

END:VCALENDAR
