BEGIN:VCALENDAR
VERSION:2.0
PRODID:-//ChamberMaster//Event Calendar 2.0//EN
METHOD:PUBLISH
X-PUBLISHED-TTL:P3D
REFRESH-INTERVAL:P3D
CALSCALE:GREGORIAN
BEGIN:VEVENT
DTSTART;VALUE=DATE:20190420
DTEND;VALUE=DATE:20190421
TRANSP:TRANSPARENT
X-MICROSOFT-CDO-ALLDAYEVENT:TRUE
SUMMARY:Cannabis On The Coast
DESCRIPTION:A community-focused collaboration of cannabis and cannabis-friendly organizations and individuals located on Mendocino County's historic coast. A Community-focused collaboration of cannabis-friendly organizations and individuals on the Mendocino County's historic coast.Inspired by our love for the plant and a desire to see our local community thrive\, we create memorable experiences for enthusiasts and newcomers alike that embody the heart and soul of cannabis culture in the world famous Emerald Triangle. All proceeds will benefit the Cancer Resource Center of Mendocino County.
X-ALT-DESC;FMTTYPE=text/html:A community-focused collaboration of cannabis and cannabis-friendly organizations and individuals located on Mendocino County&rsquo\;s historic coast. A Community-focused collaboration of cannabis-friendly organizations and individuals on the Mendocino County&#39\;s historic coast.Inspired by our love for the plant and a desire to see our local community thrive\, we create memorable experiences for enthusiasts and newcomers alike that embody the heart and soul of cannabis culture in the world famous Emerald Triangle. All proceeds will benefit the Cancer Resource Center of Mendocino County.
LOCATION:Mendocino Village- See website for location details and schedule
UID:e.2883.11389
SEQUENCE:3
DTSTAMP:20260422T125235Z
URL:http://mendocinocoast.smartcms.site/events/details/cannabis-on-the-coast-11389
END:VEVENT

END:VCALENDAR
