BEGIN:VCALENDAR
VERSION:2.0
PRODID:-//ChamberMaster//Event Calendar 2.0//EN
METHOD:PUBLISH
X-PUBLISHED-TTL:P3D
REFRESH-INTERVAL:P3D
CALSCALE:GREGORIAN
BEGIN:VEVENT
DTSTART:20190909T010000Z
DTEND:20190911T030000Z
X-MICROSOFT-CDO-ALLDAYEVENT:FALSE
SUMMARY:Campfire Series with Trillium
DESCRIPTION:Mark your calendars Mendocino -- gorgeous glamping destination\, Mendocino Grove\, and local culinary hotspot\, Trillium Cafe\, present the Campfire Music Series on September 8th\, 9th and 10th. Featuring tunes by rising folk group\, The Real Sarahs\, an organic dinner highlighting the best of the season by Trillium Cafe\, local pours from several Anderson Valley vintners all set against Mendocino Grove's stunning grounds\, these events are not to be missed. Wind down your summer with good wine\, great food and harmonic music around the campfire at Mendocino Grove's Campfire Music Series. Music is free of charge to all guests staying at the campground. The delicious dinner by Trillium Cafe is only $25 per person and includes a glass of local wine.
X-ALT-DESC;FMTTYPE=text/html:Mark your calendars Mendocino -- gorgeous glamping destination\, Mendocino Grove\, and local culinary hotspot\, Trillium Cafe\, present the Campfire Music Series on September 8th\, 9th and 10th. Featuring tunes by rising folk group\, The Real Sarahs\, an organic dinner highlighting the best of the season by Trillium Cafe\, local pours from several Anderson Valley vintners all set against Mendocino Grove&rsquo\;s stunning grounds\, these events are not to be missed. Wind down your summer with good wine\, great food and harmonic music around the campfire at Mendocino Grove&rsquo\;s Campfire Music Series. Music is free of charge to all guests staying at the campground. The delicious dinner by Trillium Cafe is only $25 per person and includes a glass of local wine.
LOCATION:Mendocino Grove 9601 CALIFORNIA 1\, MENDOCINO\, CA\, 95460
UID:e.2883.11963
SEQUENCE:3
DTSTAMP:20260422T043108Z
URL:http://mendocinocoast.smartcms.site/events/details/campfire-series-with-trillium-11963
END:VEVENT

END:VCALENDAR
