BEGIN:VCALENDAR
VERSION:2.0
PRODID:-//ChamberMaster//Event Calendar 2.0//EN
METHOD:PUBLISH
X-PUBLISHED-TTL:P3D
REFRESH-INTERVAL:P3D
CALSCALE:GREGORIAN
BEGIN:VEVENT
DTSTART:20190921T160000Z
DTEND:20190921T190000Z
X-MICROSOFT-CDO-ALLDAYEVENT:FALSE
SUMMARY:California Coastal Cleanup Day
DESCRIPTION:The state's largest volunteer event\, California Coastal Cleanup Day\, is preparing to celebrate its 35th anniversary. The event is coordinated by Mendocino Land Trust locally and statewide by the California Coastal Conservancy and will take place at more than a dozen locations throughout Mendocino County on Saturday\, September 21\, from 9 a.m. to 12 noon.
X-ALT-DESC;FMTTYPE=text/html:The state&rsquo\;s largest volunteer event\, California Coastal Cleanup Day\, is preparing to celebrate its 35th anniversary. The event is coordinated by Mendocino Land Trust locally and statewide by the California Coastal Conservancy and will take place at more than a dozen locations throughout Mendocino County on Saturday\, September 21\, from 9 a.m. to 12 noon.
LOCATION:Please visit Mendocino Land Trust's website for a list of locations.
UID:e.2883.11901
SEQUENCE:3
DTSTAMP:20260422T043357Z
URL:http://mendocinocoast.smartcms.site/events/details/california-coastal-cleanup-day-11901
END:VEVENT

END:VCALENDAR
