BEGIN:VCALENDAR
VERSION:2.0
PRODID:-//ChamberMaster//Event Calendar 2.0//EN
METHOD:PUBLISH
X-PUBLISHED-TTL:P3D
REFRESH-INTERVAL:P3D
CALSCALE:GREGORIAN
BEGIN:VEVENT
DTSTART:20330312T210000Z
DTEND:20330313T000000Z
X-MICROSOFT-CDO-ALLDAYEVENT:FALSE
SUMMARY:Cafe Beaujolais Second Saturday Art Fair
DESCRIPTION:Join us every second Saturday in the Beaujolais Garden. Enjoy wood fired pizza\, sip from our delicious selection of beer and wine while browsing and supporting local artists and purveyors of art\, jewelry\, vintage\, and more!
X-ALT-DESC;FMTTYPE=text/html:Join us every second Saturday in the Beaujolais Garden. Enjoy wood fired pizza\, sip from our delicious selection of beer and wine while browsing and supporting local artists and purveyors of art\, jewelry\, vintage\, and more!
LOCATION:961 Ukiah Street Mendocino\, CA 95460
UID:e.2883.20019
SEQUENCE:3
DTSTAMP:20260421T213002Z
URL:http://mendocinocoast.smartcms.site/events/details/cafe-beaujolais-second-saturday-art-fair-03-12-2033-20019
END:VEVENT

END:VCALENDAR
