BEGIN:VCALENDAR
VERSION:2.0
PRODID:-//ChamberMaster//Event Calendar 2.0//EN
METHOD:PUBLISH
X-PUBLISHED-TTL:P3D
REFRESH-INTERVAL:P3D
CALSCALE:GREGORIAN
BEGIN:VEVENT
DTSTART:20180211T020000Z
DTEND:20180211T050000Z
X-MICROSOFT-CDO-ALLDAYEVENT:FALSE
SUMMARY:Cabaret Dinner & Auction
DESCRIPTION:Treat your Valentine to an evening of good food\, entertainment\, and a live auction. On Saturday\, February 10 Gloriana will be holding its third annual Cabaret Dinner and Auction. All money raised will go towards our Scholarship fund. Dinner is your choice of either meat or veggie lasagna (gluten free available)\, garden salad with a selection of dressings\, garlic bread\, non-alcoholic drink and a dessert bar. Beer and wine for sale separately.\n\n\n\nWhile you dine our performers will sing songs of love to entertain you and when they aren't singing there will be a LIVE auction!\n\n\n\nThe evening will run from 6:00   9:00 at Eagles Hall in Fort Bragg. Tickets are $25 per person or $40 per couple. Tickets available online atgloriana.org or at the door.
X-ALT-DESC;FMTTYPE=text/html:<span style="color:rgb(75\, 79\, 86)\; font-family:sf optimized\,system-ui\,-apple-system\,system-ui\,.sfnstext-regular\,sans-serif\; font-size:14px">Treat your Valentine to an evening of good food\, entertainment\, and a live auction. On Saturday\, February 10 Gloriana will be holding its third annual Cabaret Dinner and Auction. All money raised will go towards our Scholarship fund. Dinner is your choice of either meat or veggie lasagna (gluten free available)\, garden salad with a selection of dressings\, garlic bread\, non-alcoholic drink and a dessert bar. Beer and wine for sale separately.</span><br />\n<br />\n<span style="color:rgb(75\, 79\, 86)\; font-family:sf optimized\,system-ui\,-apple-system\,system-ui\,.sfnstext-regular\,sans-serif\; font-size:14px">While you dine our performers will sing songs of love to entertain you and when they aren&#39\;t singing there will be a LIVE auction!</span><br />\n<br />\n<span style="color:rgb(75\, 79\, 86)\; font-family:sf optimized\,system-ui\,-apple-system\,system-ui\,.sfnstext-regular\,sans-serif\; font-size:14px">The evening will run from 6:00 &ndash\; 9:00 at Eagles Hall in Fort Bragg. Tickets are $25 per person or $40 per couple. Tickets available online at</span><a href="https://l.facebook.com/l.php?u=http%3A%2F%2Fgloriana.org%2F&amp\;h=ATPRq-4gzYWJF74KRoxLzf02TZeqoKtTjQdlgaJ5hNjQEBupS2fTVIwBX8yhRT5KrtRJ0-FvzZvGRS9WUoF_efMOMR55uCpcYyZAV3xQhKFRWuP5ii8xYyXr4iqnlrTGgpfPhhpaSnCJEsFAOSsDprk5qheN5gLSB5kox8LjS-DY-2scpD1Mt8meb8kKdyvoDS4A3vc" rel="nofollow noopener" style="color: rgb(54\, 88\, 153)\; text-decoration-line: none\; font-family: &quot\;SF Optimized&quot\;\, system-ui\, -apple-system\, system-ui\, &quot\;.SFNSText-Regular&quot\;\, sans-serif\; font-size: 14px\; letter-spacing: -0.12px\;" target="_blank">gloriana.org</a><span style="color:rgb(75\, 79\, 86)\; font-family:sf optimized\,system-ui\,-apple-system\,system-ui\,.sfnstext-regular\,sans-serif\; font-size:14px">&nbsp\;or at the door.</span>
LOCATION:Eagles Hall - 210 N Corry\, Fort Bragg
UID:e.2883.5522
SEQUENCE:3
DTSTAMP:20260423T121729Z
URL:http://mendocinocoast.smartcms.site/events/details/cabaret-dinner-auction-5522
END:VEVENT

END:VCALENDAR
