BEGIN:VCALENDAR
VERSION:2.0
PRODID:-//ChamberMaster//Event Calendar 2.0//EN
METHOD:PUBLISH
X-PUBLISHED-TTL:P3D
REFRESH-INTERVAL:P3D
CALSCALE:GREGORIAN
BEGIN:VEVENT
DTSTART:20181027T200000Z
DTEND:20181027T230000Z
X-MICROSOFT-CDO-ALLDAYEVENT:FALSE
SUMMARY:C. V. Starr Community Center Halloween Party and Aquatic Pumpkin Patch
DESCRIPTION:Come spend an afternoon of Family Fun at the C. V. Starr Community Center! Decorate a cookie\, walk through a not so scary haunted house and swim for a pumpkin in our AQUATIC PUMPKIN PATCH! Saturday\, October 27 at 1:00-4:00pm All Ages Welcome Regular drop in fees apply \, or FREE for members when you scan in! Pumpkins for the first 100 participants
X-ALT-DESC;FMTTYPE=text/html:Come spend an afternoon of Family Fun at the C. V. Starr Community Center! Decorate a cookie\, walk through a not so scary haunted house and swim for a pumpkin in our AQUATIC PUMPKIN PATCH! Saturday\, October 27 at 1:00-4:00pm All Ages Welcome Regular drop in fees apply \, or FREE for members when you scan in! Pumpkins for the first 100 participants
LOCATION:C. V. Starr Community Center 300 S. Lincoln St Fort Bragg CA 95437
UID:e.2883.10297
SEQUENCE:3
DTSTAMP:20260422T225405Z
URL:http://mendocinocoast.smartcms.site/events/details/c-v-starr-community-center-halloween-party-and-aquatic-pumpkin-patch-10297
END:VEVENT

END:VCALENDAR
