BEGIN:VCALENDAR
VERSION:2.0
PRODID:-//ChamberMaster//Event Calendar 2.0//EN
METHOD:PUBLISH
X-PUBLISHED-TTL:P3D
REFRESH-INTERVAL:P3D
CALSCALE:GREGORIAN
BEGIN:VEVENT
DTSTART;VALUE=DATE:20180504
DTEND;VALUE=DATE:20180505
TRANSP:TRANSPARENT
X-MICROSOFT-CDO-ALLDAYEVENT:TRUE
SUMMARY:Brubeck Brothers Quartet at The Sequoia Room
DESCRIPTION:Brubeck Brothers Quartet\n\n  Friday\, May 4  \n\n2 dinner shows: 6 and 8:30 pm\n\nSeating approximately one hour prior to show time\n\nCHRIS BRUBECK and DAN BRUBECK are extensions of a remarkable jazz legacy. Although they toured and recorded with their father extensively\, the immensely popular and influential jazz innovator Dave Brubeck\, Chris and Dan have forged their own musical identities.\n\nBass player and trombonist Chris and drummer Dan have previously released four albums with their band BRUBECK BROTHERS QUARTET. Along with their musical compatriots\, MIKE DeMICCO on guitar and CHUCK LAMB on piano\, they are releasing their newest CD\, TIMELINE\, celebrating the 60th anniversary of Dave Brubeck's seminal State Department Tour as an official jazz ambassador for the United States.\n\nChris and Dan honed their chops working in Dave's band for many years\, but they also struck out on their own\, with each touring and recording in different groups and styles through the years. The brothers' fresh take on their father's classic tunes as well as their own original compositions reflect the diversity of their experiences and their instinct to incorporate new ideas in their music.\n\nOn TIMELINE the Brubeck Brothers Quartet explore odd time signatures while integrating the blues\, contemporary jazz\, and world music. The band is not afraid to take chances and pushes the envelope to create a rewarding and inventive musical journey.\n\nChris Brubeck   electric bass\, bass trombone\n\nDan Brubeck   drums\, hand drums\, percussion\n\nMike DeMicco   guitar\n\nChuck Lamb   piano\n\n \n\n+ GOOGLE CALENDAR+ ICAL EXPORT\n\n\n\nDetails\nDate:\n\nMay 4\n\nCost:\n\n$25.00\n\nEvent Tags:\n\nBBQ\, Brubeck Brothers Quartet\, Chris Brubeck\, Chuck Lamb\, Dan Brubeck\, Mike DiMicco\n\n a class="ticket-button" data-cke-saved-href="https://www.brownpapertickets.com/event/3385397" href="https://www.brownpapertickets.com/event/3385397" "="" target="_blank" style="box-sizing: border-box\; margin: 0px\; padding: 6px 20px\; border: 2px solid\; outline: 0px\; background: transparent\; vertical-align: baseline\; text-size-adjust: 100%\; text-decoration-line: none\; display: inline-block\; float: none\; top: 2px\; border-radius: 3px\; line-height: 1.7em\; -webkit-font-smoothing: antialiased\; transition: all 0.2s\; position: relative\; cursor: pointer\; color: rgb(129\, 32\, 38) !important\;" Get Tickets
X-ALT-DESC;FMTTYPE=text/html:<h1 style="text-align:center">Brubeck Brothers Quartet</h1>\n\n<h2 style="text-align:center">&ndash\; Friday\, May 4 &ndash\;</h2>\n\n<h3 style="text-align:center">2 dinner shows: 6 and 8:30 pm</h3>\n\n<p style="text-align:center">Seating approximately one hour prior to show time</p>\n\n<p style="text-align:center">CHRIS BRUBECK and DAN BRUBECK are extensions of a remarkable jazz legacy. Although they toured and recorded with their father extensively\, the immensely popular and influential jazz innovator Dave Brubeck\, Chris and Dan have forged their own musical identities.</p>\n\n<p style="text-align:center">Bass player and trombonist Chris and drummer Dan have previously released four albums with their band BRUBECK BROTHERS QUARTET. Along with their musical compatriots\, MIKE DeMICCO on guitar and CHUCK LAMB on piano\, they are releasing their newest CD\, TIMELINE\, celebrating the 60th anniversary of Dave Brubeck&rsquo\;s seminal State Department Tour as an official jazz ambassador for the United States.<br />\nChris and Dan honed their chops working in Dave&rsquo\;s band for many years\, but they also struck out on their own\, with each touring and recording in different groups and styles through the years. The brothers&rsquo\; fresh take on their father&rsquo\;s classic tunes as well as their own original compositions reflect the diversity of their experiences and their instinct to incorporate new ideas in their music.</p>\n\n<p style="text-align:center">On TIMELINE the Brubeck Brothers Quartet explore odd time signatures while integrating the blues\, contemporary jazz\, and world music. The band is not afraid to take chances and pushes the envelope to create a rewarding and inventive musical journey.</p>\n\n<p style="text-align:center">Chris Brubeck &ndash\; electric bass\, bass trombone<br />\nDan Brubeck &ndash\; drums\, hand drums\, percussion<br />\nMike DeMicco &ndash\; guitar<br />\nChuck Lamb &ndash\; piano<br />\n&nbsp\;</p>\n\n<div><a class="tribe-events-gcal tribe-events-button" href="https://www.google.com/calendar/event?action=TEMPLATE&amp\;text=Brubeck+Brothers+Quartet&amp\;dates=20180504/20180505&amp\;details=Brubeck+Brothers+Quartet%0A%26%238211%3B+Friday%2C+May+4+%26%238211%3B%0A2+dinner+shows%3A+6+and+8%3A30+pm%0ASeating+approximately+one+hour+prior+to+show+time+%0ACHRIS+BRUBECK+and+DAN+BRUBECK+are+extensions+of+a+remarkable+jazz+legacy.+Although+they+toured+and+recorded+with+their+father+extensively%2C+the+immensely+popular+and+influential+jazz+innovator+Dave+Brubeck%2C+Chris+and+Dan+have+forged+their+own+musical+identities.+%0ABass+player+and+trombonist+Chris+and+drummer+Dan+have+previously+released+four+albums+with+their+band+BRUBECK+BROTHERS+QUARTET.+Along+with+their+musical+compatriots%2C+MIKE+DeMICCO+on+guitar+and+CHUCK+LAMB+on+piano%2C+they+are+releasing+their+newest+CD%2C+TIMELINE%2C+celebrating+the+60th+anniversary+of+Dave+Brubeck%E2%80%99s+seminal+State+Department+Tour+as+an+official+jazz+ambassador+for+the+United+States.%0AChris+and+Dan+honed+their+chops+working+in+Dave%E2%80%99s+band+for+many+years%2C+but+they+also+struck+out+on+their+own%2C+with+each+touring+and+recording+in+different+groups+and+styles+through+the+years.+The+br+%28View+Full+Event+Description+Here%3A+https%3A%2F%2Fnorthcoastbrewing.com%2Fjazz-event%2Fbrubeck-brothers-quartet%2F%29&amp\;location=444+North+Main+Street%2C+Fort+Bragg%2C+CA%2C+95437%2C+United+States&amp\;trp=false&amp\;sprop=website:https://northcoastbrewing.com&amp\;ctz=America%2FLos_Angeles" style="box-sizing: border-box\; margin: 21px 9px 0px 0px\; padding: 6px 9px\; border: 0px\; outline: 0px\; background: none 0px 0px rgb(52\, 16\, 19)\; font-size: 11px\; vertical-align: middle\; text-size-adjust: 100%\; color: rgb(255\, 255\, 255)\; text-decoration-line: none\; border-radius: 3px\; box-shadow: none\; cursor: pointer\; display: inline-block\; font-weight: 700\; letter-spacing: 1px\; line-height: normal\; text-align: center\; text-transform: uppercase\; zoom: 1\; clear: both\; float: none\;" title="Add to Google Calendar">+ GOOGLE CALENDAR</a><a class="tribe-events-ical tribe-events-button" href="https://northcoastbrewing.com/jazz-event/brubeck-brothers-quartet/?ical=1&amp\;tribe_display=" style="box-sizing: border-box\; margin: 21px 0px 0px\; padding: 6px 9px\; border: 0px\; outline: 0px\; background: none 0px 0px rgb(52\, 16\, 19)\; font-size: 11px\; vertical-align: middle\; text-size-adjust: 100%\; color: rgb(255\, 255\, 255)\; text-decoration-line: none\; border-radius: 3px\; box-shadow: none\; cursor: pointer\; display: inline-block\; font-weight: 700\; letter-spacing: 1px\; line-height: normal\; text-align: center\; text-transform: uppercase\; zoom: 1\; clear: both\; float: none\;" title="Download .ics file">+ ICAL EXPORT</a></div>\n\n<div style="background:rgb(250\, 250\, 250)\; border:1px solid rgb(238\, 238\, 238)\; padding:0px">\n<div style="background:0px 0px\; border:0px\; padding:0px 42.3125px">\n<h3>Details</h3>\nDate:<br />\nMay 4<br />\nCost:<br />\n$25.00<br />\nEvent Tags:<br />\n<a href="https://northcoastbrewing.com/tag/bbq/" rel="tag" style="box-sizing: border-box\; margin: 0px\; padding: 0px\; border: 0px\; outline: 0px\; background: 0px 0px\; vertical-align: baseline\; text-size-adjust: 100%\; color: rgb(131\, 34\, 39)\; text-decoration-line: none\;">BBQ</a>\,&nbsp\;<a href="https://northcoastbrewing.com/tag/brubeck-brothers-quartet/" rel="tag" style="box-sizing: border-box\; margin: 0px\; padding: 0px\; border: 0px\; outline: 0px\; background: 0px 0px\; vertical-align: baseline\; text-size-adjust: 100%\; color: rgb(131\, 34\, 39)\; text-decoration-line: none\;">Brubeck Brothers Quartet</a>\,&nbsp\;<a href="https://northcoastbrewing.com/tag/chris-brubeck/" rel="tag" style="box-sizing: border-box\; margin: 0px\; padding: 0px\; border: 0px\; outline: 0px\; background: 0px 0px\; vertical-align: baseline\; text-size-adjust: 100%\; color: rgb(131\, 34\, 39)\; text-decoration-line: none\;">Chris Brubeck</a>\,&nbsp\;<a href="https://northcoastbrewing.com/tag/chuck-lamb/" rel="tag" style="box-sizing: border-box\; margin: 0px\; padding: 0px\; border: 0px\; outline: 0px\; background: 0px 0px\; vertical-align: baseline\; text-size-adjust: 100%\; color: rgb(131\, 34\, 39)\; text-decoration-line: none\;">Chuck Lamb</a>\,&nbsp\;<a href="https://northcoastbrewing.com/tag/dan-brubeck/" rel="tag" style="box-sizing: border-box\; margin: 0px\; padding: 0px\; border: 0px\; outline: 0px\; background: 0px 0px\; vertical-align: baseline\; text-size-adjust: 100%\; color: rgb(131\, 34\, 39)\; text-decoration-line: none\;">Dan Brubeck</a>\,&nbsp\;<a href="https://northcoastbrewing.com/tag/mike-dimicco/" rel="tag" style="box-sizing: border-box\; margin: 0px\; padding: 0px\; border: 0px\; outline: 0px\; background: 0px 0px\; vertical-align: baseline\; text-size-adjust: 100%\; color: rgb(131\, 34\, 39)\; text-decoration-line: none\;">Mike DiMicco</a><br />\n&lt\;a class=&quot\;ticket-button&quot\; data-cke-saved-href=&quot\;https://www.brownpapertickets.com/event/3385397&quot\; href=&quot\;https://www.brownpapertickets.com/event/3385397&quot\; &quot\;=&quot\;&quot\; target=&quot\;_blank&quot\; style=&quot\;box-sizing: border-box\; margin: 0px\; padding: 6px 20px\; border: 2px solid\; outline: 0px\; background: transparent\; vertical-align: baseline\; text-size-adjust: 100%\; text-decoration-line: none\; display: inline-block\; float: none\; top: 2px\; border-radius: 3px\; line-height: 1.7em\; -webkit-font-smoothing: antialiased\; transition: all 0.2s\; position: relative\; cursor: pointer\; color: rgb(129\, 32\, 38) !important\;&quot\;&gt\;Get Tickets &raquo\;</div>\n</div>\n
LOCATION:
UID:e.2883.8072
SEQUENCE:3
DTSTAMP:20260423T073620Z
URL:http://mendocinocoast.smartcms.site/events/details/brubeck-brothers-quartet-at-the-sequoia-room-8072
END:VEVENT

END:VCALENDAR
