BEGIN:VCALENDAR
VERSION:2.0
PRODID:-//ChamberMaster//Event Calendar 2.0//EN
METHOD:PUBLISH
X-PUBLISHED-TTL:P3D
REFRESH-INTERVAL:P3D
CALSCALE:GREGORIAN
BEGIN:VEVENT
DTSTART:20190124T030000Z
DTEND:20190124T040000Z
X-MICROSOFT-CDO-ALLDAYEVENT:FALSE
SUMMARY:Brew Pub Book Club @Overtime Brewing Co.
DESCRIPTION:The Brew Pub Book Club is designed to be a group of friends\, or soon-to-be friends\, who'll get together to socialize\, *eat\, drink and discuss some reading along the way. It's for those night owls whose discussions tend to get a little loud\, however\, at Overtime\, there's no one around to shush you! So bring a friend and join us at Overtime Brewing Co.\, located at 190 Elm St.\, Fort Bragg\, every 4th Wednesday of the month\, 7-8 pm.
X-ALT-DESC;FMTTYPE=text/html:The Brew Pub Book Club is designed to be a group of friends\, or soon-to-be friends\, who&rsquo\;ll get together to socialize\, *eat\, drink and discuss some reading along the way. It&rsquo\;s for those night owls whose discussions tend to get a little loud\, however\, at Overtime\, there&rsquo\;s no one around to shush you! So bring a friend and join us at Overtime Brewing Co.\, located at 190 Elm St.\, Fort Bragg\, every 4th Wednesday of the month\, 7-8 pm.
LOCATION:Overtime Brewing Company 190 Elm St. Fort Bragg\, CA 95437
UID:e.2883.10530
SEQUENCE:3
DTSTAMP:20260422T174341Z
URL:http://mendocinocoast.smartcms.site/events/details/brew-pub-book-club-overtime-brewing-co-10530
END:VEVENT

END:VCALENDAR
