BEGIN:VCALENDAR
VERSION:2.0
PRODID:-//ChamberMaster//Event Calendar 2.0//EN
METHOD:PUBLISH
X-PUBLISHED-TTL:P3D
REFRESH-INTERVAL:P3D
CALSCALE:GREGORIAN
BEGIN:VEVENT
DTSTART:20180201T190000Z
DTEND:20180227T010000Z
X-MICROSOFT-CDO-ALLDAYEVENT:FALSE
SUMMARY:Borders and Boundaries
DESCRIPTION:FIRST FRIDAY RECEPTION FEB 2\, 5-8pm In February\, Partners artists are exploring notions of borders and boundaries: how they separate\, define\, categorize\, frame\, exclude\, protect or connect. Participating artists are approaching this theme with both literal and formal perspectives and in a variety of media.
X-ALT-DESC;FMTTYPE=text/html:FIRST FRIDAY RECEPTION FEB 2\, 5-8pm In February\, Partners artists are exploring notions of borders and boundaries: how they separate\, define\, categorize\, frame\, exclude\, protect or connect. Participating artists are approaching this theme with both literal and formal perspectives and in a variety of media.
LOCATION:335 N. Franklin Street in downtown Fort Bragg.
UID:e.2883.5518
SEQUENCE:3
DTSTAMP:20260423T121703Z
URL:http://mendocinocoast.smartcms.site/events/details/borders-and-boundaries-5518
END:VEVENT

END:VCALENDAR
