BEGIN:VCALENDAR
VERSION:2.0
PRODID:-//ChamberMaster//Event Calendar 2.0//EN
METHOD:PUBLISH
X-PUBLISHED-TTL:P3D
REFRESH-INTERVAL:P3D
CALSCALE:GREGORIAN
BEGIN:VEVENT
DTSTART:20190705T230000Z
DTEND:20190706T020000Z
X-MICROSOFT-CDO-ALLDAYEVENT:FALSE
SUMMARY:Book Sale--Mysteries and a little Romance
DESCRIPTION:Join the Friends of the Fort Bragg Library for a special mid-summer book sale of Mysteries and a little Romance All proceeds benefit the Library Expansion Project. Hardcovers $2\, paperbacks $1.
X-ALT-DESC;FMTTYPE=text/html:Join the Friends of the Fort Bragg Library for a special mid-summer book sale of Mysteries and a little Romance All proceeds benefit the Library Expansion Project. Hardcovers $2\, paperbacks $1.
LOCATION:Fort Bragg Library 499 E Laurel St. Fort Bragg\, CA 95437
UID:e.2883.11802
SEQUENCE:3
DTSTAMP:20260422T081127Z
URL:http://mendocinocoast.smartcms.site/events/details/book-sale-mysteries-and-a-little-romance-11802
END:VEVENT

END:VCALENDAR
