BEGIN:VCALENDAR
VERSION:2.0
PRODID:-//ChamberMaster//Event Calendar 2.0//EN
METHOD:PUBLISH
X-PUBLISHED-TTL:P3D
REFRESH-INTERVAL:P3D
CALSCALE:GREGORIAN
BEGIN:VEVENT
DTSTART:20190615T013000Z
DTEND:20190615T050000Z
X-MICROSOFT-CDO-ALLDAYEVENT:FALSE
SUMMARY:Boogie With the Smokin' Mirrors
DESCRIPTION:Get your boogie on and come out to dance with The Smokin' Mirrors\, featuring Tommy Brown & Friends! Doors open at 6:30 PM Music begins: 7:00 Pm Silent Auction! Beer & Wine! A benefit for the Mendocino Coast Humane Society! $15 advance https://squareup.com/store/cinders-productions/item/boogie-with-the-smokin-mirrors $20 at the door
X-ALT-DESC;FMTTYPE=text/html:Get your boogie on and come out to dance with The Smokin&#39\; Mirrors\, featuring Tommy Brown &amp\; Friends! Doors open at 6:30 PM Music begins: 7:00 Pm Silent Auction! Beer &amp\; Wine! A benefit for the Mendocino Coast Humane Society! $15 advance https://squareup.com/store/cinders-productions/item/boogie-with-the-smokin-mirrors $20 at the door
LOCATION:Cinders Productions Masonic Center 428 North Main Street\, Fort Bragg
UID:e.2883.11373
SEQUENCE:3
DTSTAMP:20260422T094036Z
URL:http://mendocinocoast.smartcms.site/events/details/boogie-with-the-smokin-mirrors-11373
END:VEVENT

END:VCALENDAR
