BEGIN:VCALENDAR
VERSION:2.0
PRODID:-//ChamberMaster//Event Calendar 2.0//EN
METHOD:PUBLISH
X-PUBLISHED-TTL:P3D
REFRESH-INTERVAL:P3D
CALSCALE:GREGORIAN
BEGIN:VEVENT
DTSTART:20180121T030000Z
DTEND:20180121T060000Z
X-MICROSOFT-CDO-ALLDAYEVENT:FALSE
SUMMARY:Bob Ayres' Swingin' Boonville Big Band
DESCRIPTION:Hoping to liven up our winter days with something joyful and fun\, the community is invited to once again support Gloriana Musical Theatre with an exciting big band swing dance concert Saturday\, January 20th\, featuring Bob Ayres' The Swingin' Boonville Big Band. Please come support the Mendocino coasts own authentic big band featuring the renowned vocals of Sharon Garner. (And bring your dancing shoes!)\n\n\n\n7 PM to 10 PM\n\nBeer/Wine/Soft drinks/Snacks/Dance contest\n\n$15 at the door\n\nFor more info contact Walter Kimmelman at: 707-962-3085
X-ALT-DESC;FMTTYPE=text/html:<span style="color:rgb(75\, 79\, 86)\; font-family:sf optimized\,system-ui\,-apple-system\,system-ui\,.sfnstext-regular\,sans-serif\; font-size:14px">Hoping to liven up our winter days with something joyful and fun\, the community is invited to once again support Gloriana Musical Theatre with an exciting big band swing dance concert Saturday\, January 20th\, featuring Bob Ayres&#39\; The Swingin&rsquo\; Boonville Big Band. Please come support the Mendocino coasts own authentic big band featuring the renowned vocals of Sharon Garner. (And bring your dancing shoes!)</span><br />\n<br />\n<span style="color:rgb(75\, 79\, 86)\; font-family:sf optimized\,system-ui\,-apple-system\,system-ui\,.sfnstext-regular\,sans-serif\; font-size:14px">7 PM to 10 PM</span><br />\n<span style="color:rgb(75\, 79\, 86)\; font-family:sf optimized\,system-ui\,-apple-system\,system-ui\,.sfnstext-regular\,sans-serif\; font-size:14px">Beer/Wine/Soft drinks/Snacks/Dance contest</span><br />\n<span style="color:rgb(75\, 79\, 86)\; font-family:sf optimized\,system-ui\,-apple-system\,system-ui\,.sfnstext-regular\,sans-serif\; font-size:14px">$15 at the door</span><br />\n<span style="color:rgb(75\, 79\, 86)\; font-family:sf optimized\,system-ui\,-apple-system\,system-ui\,.sfnstext-regular\,sans-serif\; font-size:14px">For more info contact Walter Kimmelman at: 707-962-3085</span>
LOCATION:Eagles Hall - 210 N. Corry\, Fort Bragg
UID:e.2883.5516
SEQUENCE:3
DTSTAMP:20260423T141154Z
URL:http://mendocinocoast.smartcms.site/events/details/bob-ayres-swingin-boonville-big-band-5516
END:VEVENT

END:VCALENDAR
