BEGIN:VCALENDAR
VERSION:2.0
PRODID:-//ChamberMaster//Event Calendar 2.0//EN
METHOD:PUBLISH
X-PUBLISHED-TTL:P3D
REFRESH-INTERVAL:P3D
CALSCALE:GREGORIAN
BEGIN:VEVENT
DTSTART:20190616T000000Z
DTEND:20190616T043000Z
X-MICROSOFT-CDO-ALLDAYEVENT:FALSE
SUMMARY:Bob Ayres' Boonville Big Band Raise the Roof Swing Dance & Concert
DESCRIPTION:Please come help the Fort Bragg - Inglenook Community Center "raise its roof" with Bob Ayres' 22-piece orchestra\, the Boonville Big Band\, in concert performing period big band pop & swing tunes for fun and dancing. This swing dance and concert will occur on Saturday\, June 15th\, at the Fort Bragg - Inglenook Community Center\, located at 26500 N. HWY 1\, 6-miles north of Fort Bragg near Inglenook. Doors open for Happy Hour at 5:00 PM. A Southwestern Dinner is available at 6:00 PM. Music and dancing start at 7:00 PM. Buy your tickets for $20.00 at Nello's Market\, online with Brown Paper Tickets\, or at the door the day of the event. Dinner tickets for $15.00 and drink tickets at various prices will be available at the door the day of the event. Entrance tickets will be half off at $10.00 at 8:00 PM at the door the day of the event. Also\, food will be sold a la carte in take out containers for $5.00 beginning at 8:00 PM. Wear your favorite dancing shoes and poodle skirt or zoot suit. There will be a bubble machine and disco ball hanging from the ceiling. All proceeds will go toward re-roofing the community center. Thank you for all your support to help us "raise the roof".
X-ALT-DESC;FMTTYPE=text/html:Please come help the Fort Bragg - Inglenook Community Center &quot\;raise its roof&quot\; with Bob Ayres&#39\; 22-piece orchestra\, the Boonville Big Band\, in concert performing period big band pop &amp\; swing tunes for fun and dancing. This swing dance and concert will occur on Saturday\, June 15th\, at the Fort Bragg - Inglenook Community Center\, located at 26500 N. HWY 1\, 6-miles north of Fort Bragg near Inglenook. Doors open for Happy Hour at 5:00 PM. A Southwestern Dinner is available at 6:00 PM. Music and dancing start at 7:00 PM. Buy your tickets for $20.00 at Nello&#39\;s Market\, online with Brown Paper Tickets\, or at the door the day of the event. Dinner tickets for $15.00 and drink tickets at various prices will be available at the door the day of the event. Entrance tickets will be half off at $10.00 at 8:00 PM at the door the day of the event. Also\, food will be sold a la carte in take out containers for $5.00 beginning at 8:00 PM. Wear your favorite dancing shoes and poodle skirt or zoot suit. There will be a bubble machine and disco ball hanging from the ceiling. All proceeds will go toward re-roofing the community center. Thank you for all your support to help us &quot\;raise the roof&quot\;.
LOCATION:26500 N. HWY 1 Fort Bragg\, CA near Inglenook
UID:e.2883.11698
SEQUENCE:3
DTSTAMP:20260422T094539Z
URL:http://mendocinocoast.smartcms.site/events/details/bob-ayres-boonville-big-band-raise-the-roof-swing-dance-concert-11698
END:VEVENT

END:VCALENDAR
