BEGIN:VCALENDAR
VERSION:2.0
PRODID:-//ChamberMaster//Event Calendar 2.0//EN
METHOD:PUBLISH
X-PUBLISHED-TTL:P3D
REFRESH-INTERVAL:P3D
CALSCALE:GREGORIAN
BEGIN:VEVENT
DTSTART:20191003T020000Z
DTEND:20191003T040000Z
X-MICROSOFT-CDO-ALLDAYEVENT:FALSE
SUMMARY:Blazing Saddles - Classic Films Series at Coast Cinemas
DESCRIPTION:Gene Wilder and Mel Brooks in a western satire in Cinemascope! Do you need any further motivation to see a film?! Are you ready to choke with laughter at the endlessly quotable lines? Are you prepared to be offended... at least once? Why not come see the film that still causes quite the ruckus and decide for yourself if it's offensive\, plus  we promise you are going to laugh\, a lot!\n\n\n\nThanks to the sponsors of Blazing Saddles - Golden West Saloon in Fort Bragg\, Robert D. Bruce DDS in Fort Bragg\, KOZT-FM & Mendocino Film Festival. Please remember to arrive no later than 15 mins before the start time if you want to insure you get a seat. Thanks.
X-ALT-DESC;FMTTYPE=text/html:Gene Wilder and Mel Brooks in a western satire in Cinemascope! Do you need any further motivation to see a film?! Are you ready to choke with laughter at the endlessly quotable lines? Are you prepared to be offended... at least once? Why not come see the film that still causes quite the ruckus and decide for yourself if it&#39\;s offensive\, plus&hellip\; we promise you are going to laugh\, a lot!<br />\n<br />\nThanks to the sponsors of Blazing Saddles - Golden West Saloon in Fort Bragg\, Robert D. Bruce DDS in Fort Bragg\, KOZT-FM &amp\; Mendocino Film Festival. Please remember to arrive no later than 15 mins before the start time if you want to insure you get a seat. Thanks.
LOCATION:Coast Cinemas 135 S Franklin St Fort Bragg\, CA\, 95437
UID:e.2883.11994
SEQUENCE:3
DTSTAMP:20260422T025626Z
URL:http://mendocinocoast.smartcms.site/events/details/blazing-saddles-classic-films-series-at-coast-cinemas-11994
END:VEVENT

END:VCALENDAR
