BEGIN:VCALENDAR
VERSION:2.0
PRODID:-//ChamberMaster//Event Calendar 2.0//EN
METHOD:PUBLISH
X-PUBLISHED-TTL:P3D
REFRESH-INTERVAL:P3D
CALSCALE:GREGORIAN
BEGIN:VEVENT
DTSTART:20180514T030000Z
DTEND:20180514T050000Z
X-MICROSOFT-CDO-ALLDAYEVENT:FALSE
SUMMARY:Blackbird
DESCRIPTION:The Mendocino Theatre Company is proud to present David Harrower's \npowerful drama BLACKBIRD\, directed by Ann Woodhead.\n\n\nIt's been fifteen years since Ray and Una have been in the same room -- \nwhen he was forty\, and she was just twelve years old.He has moved to \nanother town and changed his name in pursuit of a new life.But when Una \nrecognizes Ray in a magazine photo\, she travels to find him and insists \nthey dive into their shared past -- an incident that sent him to prison \nand caused irreparable damage to both of their lives. BLACKBIRD\nexplores a provocative subject in a way that will challenge audience \nmembers to question their perceptions.\n\n\nThe production features veteran MTC actor Dan Kozloff (The Normal \nHeart\, Gaslight\, /Morning's at Seven) as Ray and LA-based actor Emily \nBatterson\, (Who's Afraid of Virginia Woolf?) as Una. "I am excited to \nbe directing this exceptional cast in this dynamic and thought-provoking \nplay\," says director Ann Woodhead." BLACKBIRD addresses questions of \nattraction\, morality\, and responsibility in a thrilling confrontation \nbetween two people whose memories of an event do not match up."\n\nNot appropriate for children.
X-ALT-DESC;FMTTYPE=text/html:<pre>\nThe Mendocino Theatre Company is proud to present David Harrower&#39\;s \npowerful drama <strong>BLACKBIRD</strong>\, directed by Ann Woodhead.\n\n\nIt&#39\;s been fifteen years since Ray and Una have been in the same room -- \nwhen he was forty\, and she was just twelve years old.He has moved to \nanother town and changed his name in pursuit of a new life.But when Una \nrecognizes Ray in a magazine photo\, she travels to find him and insists \nthey dive into their shared past -- an incident that sent him to prison \nand caused irreparable damage to both of their lives. <strong>BLACKBIRD</strong>\nexplores a provocative subject in a way that will challenge audience \nmembers to question their perceptions.\n\n\nThe production features veteran MTC actor Dan Kozloff (The Normal \nHeart\, Gaslight\, /Morning&rsquo\;s at Seven) as Ray and LA-based actor Emily \nBatterson\, (Who&#39\;s Afraid of Virginia Woolf?) as Una. &quot\;I am excited to \nbe directing this exceptional cast in this dynamic and thought-provoking \nplay\,&quot\; says director Ann Woodhead.&quot\; <strong>BLACKBIRD</strong> addresses questions of \nattraction\, morality\, and responsibility in a thrilling confrontation \nbetween two people whose memories of an event do not match up.&quot\;\n\n<span style="color:#000000"><em>Not appropriate for children.</em></span>\n\n</pre>\n
LOCATION:Mendocino Theatre Company
UID:e.2883.8106
SEQUENCE:3
DTSTAMP:20260423T073333Z
URL:http://mendocinocoast.smartcms.site/events/details/blackbird-05-13-2018-8106
END:VEVENT

END:VCALENDAR
