BEGIN:VCALENDAR
VERSION:2.0
PRODID:-//ChamberMaster//Event Calendar 2.0//EN
METHOD:PUBLISH
X-PUBLISHED-TTL:P3D
REFRESH-INTERVAL:P3D
CALSCALE:GREGORIAN
BEGIN:VEVENT
DTSTART:20191110T230000Z
DTEND:20191111T010000Z
X-MICROSOFT-CDO-ALLDAYEVENT:FALSE
SUMMARY:Bites and Brews
DESCRIPTION:Come enjoy a delicious four-course tasting of pub bites paired with North Coast brews. And\, live jazz! Also featuring a fabulous silent auction of locally sourced and hand-crafted items\, and a fund-a-need for local Adopt a Fifth Grader scholarships. All proceeds benefit student success at Mendocino College Coast Center.
X-ALT-DESC;FMTTYPE=text/html:Come enjoy a delicious four-course tasting of pub bites paired with North Coast brews. And\, live jazz! Also featuring a fabulous silent auction of locally sourced and hand-crafted items\, and a fund-a-need for local Adopt a Fifth Grader scholarships. All proceeds benefit student success at Mendocino College Coast Center.
LOCATION:North Coast Brewing Co\, 444 North Main Street\, Fort Bragg\, CA
UID:e.2883.12441
SEQUENCE:3
DTSTAMP:20260422T011311Z
URL:http://mendocinocoast.smartcms.site/events/details/bites-and-brews-12441
END:VEVENT

END:VCALENDAR
