BEGIN:VCALENDAR
VERSION:2.0
PRODID:-//ChamberMaster//Event Calendar 2.0//EN
METHOD:PUBLISH
X-PUBLISHED-TTL:P3D
REFRESH-INTERVAL:P3D
CALSCALE:GREGORIAN
BEGIN:VEVENT
DTSTART:20170827T010000Z
DTEND:20170827T043000Z
X-MICROSOFT-CDO-ALLDAYEVENT:FALSE
SUMMARY:Bill Bottrell - Jazz at the Sequoia Room
DESCRIPTION:2 shows: 6 & 8:30 pm\n\nSelect your show time carefully\n\n\n\nBill Bottrell   producer\, engineer\, performer\, songwriter and oft-times local resident brings his re-commitment to songwriting to center stage for the first time in 5 years for one night only at the Sequoia Room .\n\n\n\nJoining Bill will be much-honored bass player and also motivational guru\, David Hayes.\n\n\n\nExpect the unexpected\, including unexpected guests
X-ALT-DESC;FMTTYPE=text/html:2 shows: 6 &amp\; 8:30 pm<br />\nSelect your show time carefully<br />\n<br />\nBill Bottrell &ndash\; producer\, engineer\, performer\, songwriter and oft-times local resident brings his re-commitment to songwriting to center stage for the first time in 5 years for one night only at the Sequoia Room .<br />\n<br />\nJoining Bill will be much-honored bass player and also motivational guru\, David Hayes.<br />\n<br />\nExpect the unexpected\, including unexpected guests
LOCATION:Details Date: August 25 Cost: $20.00 Venue444 North Main Street Fort Bragg\, CA 95437 United States+ Google Map Phone: 707-964-3400
UID:e.2883.4392
SEQUENCE:3
DTSTAMP:20260423T232551Z
URL:http://mendocinocoast.smartcms.site/events/details/bill-bottrell-jazz-at-the-sequoia-room-4392
END:VEVENT

END:VCALENDAR
