BEGIN:VCALENDAR
VERSION:2.0
PRODID:-//ChamberMaster//Event Calendar 2.0//EN
METHOD:PUBLISH
X-PUBLISHED-TTL:P3D
REFRESH-INTERVAL:P3D
CALSCALE:GREGORIAN
BEGIN:VEVENT
DTSTART:20180415T170000Z
DTEND:20180415T190000Z
X-MICROSOFT-CDO-ALLDAYEVENT:FALSE
SUMMARY:Big River Bird Surveys Training
DESCRIPTION:Calling all birders! Do you need to brush up on your song identification? Would you like to put your skills to good use? If so\, please join the Mendocino Land Trust as a citizen scientist and help us monitor our breeding bird population along Big River from April through May. To participate please RSVP to Garrett Linck at (707) 962-0470 or GLinck@mendocinolandtrust.org .
X-ALT-DESC;FMTTYPE=text/html:Calling all birders! Do you need to brush up on your song identification? Would you like to put your skills to good use? If so\, please join the Mendocino Land Trust as a citizen scientist and help us monitor our breeding bird population along Big River from April through May. To participate please RSVP to Garrett Linck at (707) 962-0470 or GLinck@mendocinolandtrust.org .
LOCATION:Stanford Inn in Mendocino
UID:e.2883.5614
SEQUENCE:3
DTSTAMP:20260423T104748Z
URL:http://mendocinocoast.smartcms.site/events/details/big-river-bird-surveys-training-5614
END:VEVENT

END:VCALENDAR
