BEGIN:VCALENDAR
VERSION:2.0
PRODID:-//ChamberMaster//Event Calendar 2.0//EN
METHOD:PUBLISH
X-PUBLISHED-TTL:P3D
REFRESH-INTERVAL:P3D
CALSCALE:GREGORIAN
BEGIN:VEVENT
DTSTART:20180419T180000Z
DTEND:20180420T000000Z
X-MICROSOFT-CDO-ALLDAYEVENT:FALSE
SUMMARY:Beyond the Fringe
DESCRIPTION:
X-ALT-DESC;FMTTYPE=text/html:
LOCATION:
UID:e.2883.5629
SEQUENCE:3
DTSTAMP:20260423T091354Z
URL:http://mendocinocoast.smartcms.site/events/details/beyond-the-fringe-04-19-2018-5629
END:VEVENT

END:VCALENDAR
