BEGIN:VCALENDAR
VERSION:2.0
PRODID:-//ChamberMaster//Event Calendar 2.0//EN
METHOD:PUBLISH
X-PUBLISHED-TTL:P3D
REFRESH-INTERVAL:P3D
CALSCALE:GREGORIAN
BEGIN:VEVENT
DTSTART:20190719T010000Z
DTEND:20190719T020000Z
X-MICROSOFT-CDO-ALLDAYEVENT:FALSE
SUMMARY:Beyond Genealogy with Julie Parker
DESCRIPTION:Learn how to write your ancestors' stories. At Beyond Genealogy you'll get online researching tips\, learn how to organize family photos and documents\, use general history as a backdrop\, get interviewing tips and ideas for preserving and sharing family life stories.
X-ALT-DESC;FMTTYPE=text/html:Learn how to write your ancestors&#39\; stories. At Beyond Genealogy you&#39\;ll get online researching tips\, learn how to organize family photos and documents\, use general history as a backdrop\, get interviewing tips and ideas for preserving and sharing family life stories.
LOCATION:Fort Bragg Library 499 E Laurel St. Fort Bragg\, CA 95437
UID:e.2883.11764
SEQUENCE:3
DTSTAMP:20260422T080930Z
URL:http://mendocinocoast.smartcms.site/events/details/beyond-genealogy-with-julie-parker-11764
END:VEVENT

END:VCALENDAR
