BEGIN:VCALENDAR
VERSION:2.0
PRODID:-//ChamberMaster//Event Calendar 2.0//EN
METHOD:PUBLISH
X-PUBLISHED-TTL:P3D
REFRESH-INTERVAL:P3D
CALSCALE:GREGORIAN
BEGIN:VEVENT
DTSTART:20170917T020000Z
DTEND:20170917T040000Z
X-MICROSOFT-CDO-ALLDAYEVENT:FALSE
SUMMARY:Beginning West Coast Swing
DESCRIPTION:-Learn the basics of modern day swing -Everyone welcome\, community venue -Lesson at 7 pm followed by 1 hour social dance -Free to the community\, but donations are warmly welcomed -Class taught by Anna Brinckmann and Tony Chen Contact Instructor: Brinckmann1@comcast.net
X-ALT-DESC;FMTTYPE=text/html:-Learn the basics of modern day swing -Everyone welcome\, community venue -Lesson at 7 pm followed by 1 hour social dance -Free to the community\, but donations are warmly welcomed -Class taught by Anna Brinckmann and Tony Chen Contact Instructor: Brinckmann1@comcast.net
LOCATION:Preston Hall 44831 Main Street Mendocino
UID:e.2883.4425
SEQUENCE:3
DTSTAMP:20260423T215233Z
URL:http://mendocinocoast.smartcms.site/events/details/beginning-west-coast-swing-4425
END:VEVENT

END:VCALENDAR
