BEGIN:VCALENDAR
VERSION:2.0
PRODID:-//ChamberMaster//Event Calendar 2.0//EN
METHOD:PUBLISH
X-PUBLISHED-TTL:P3D
REFRESH-INTERVAL:P3D
CALSCALE:GREGORIAN
BEGIN:VEVENT
DTSTART:20160815T190000Z
DTEND:20160815T230000Z
X-MICROSOFT-CDO-ALLDAYEVENT:FALSE
SUMMARY:Beer\, Bison & Bluegrass
DESCRIPTION:A fun afternoon of Beer tasting\, Bison burgers\, and live Bluegrass music to benefit Parents & Friends\, Inc.
X-ALT-DESC;FMTTYPE=text/html:<p>A fun afternoon of Beer tasting\, Bison burgers\, and live Bluegrass music to benefit Parents &amp\; Friends\, Inc.</p>
LOCATION:Eagles Hall (Corry & Alder st.) Fort Bragg
UID:e.2883.997
SEQUENCE:3
DTSTAMP:20260424T192828Z
URL:http://mendocinocoast.smartcms.site/events/details/beer-bison-bluegrass-08-15-2016-997
END:VEVENT

END:VCALENDAR
