BEGIN:VCALENDAR
VERSION:2.0
PRODID:-//ChamberMaster//Event Calendar 2.0//EN
METHOD:PUBLISH
X-PUBLISHED-TTL:P3D
REFRESH-INTERVAL:P3D
CALSCALE:GREGORIAN
BEGIN:VEVENT
DTSTART;VALUE=DATE:20170308
DTEND;VALUE=DATE:20170309
TRANSP:TRANSPARENT
X-MICROSOFT-CDO-ALLDAYEVENT:TRUE
SUMMARY:BEE HAVEN GARDEN WALK & LEARN
DESCRIPTION:10:00amÂ toÂ 12:00pmÂ in the Gardens Meeting Room\nwithÂ Christine Casey\, Ph.D. of the HÃ¤agen-Dazs Honey Bee HavenÂ at UC DavisSpring is a great time to create a pollinator-friendlyÂ garden... learn to create a "bee haven" in your own back yard!Flower-filled gardens support countless species of bees andÂ otherÂ beneficial pollinators. Bee pollination brings us much of our food and supports most of our wildland plants. Interest in helping bee pollinators has never been greater\, but what can you do in your own garden to make sure it is bee-friendly? Christine Casey of the HÃ¤agen-Dazs Honey Bee Haven at UC Davis will present a review of common bees\, what they need to thrive\, and how we can provide that in our gardens. The class will continue out in the Gardens for a look at plants and bees.
X-ALT-DESC;FMTTYPE=text/html:<p><span style="font-size:medium\;"><strong>10:00amÂ toÂ 12:00pmÂ in the Gardens Meeting Room</strong></span><br /><span style="font-size:medium\;"><strong>withÂ Christine Casey\, Ph.D. of the HÃ¤agen-Dazs Honey Bee HavenÂ at UC Davis</strong></span></p><p><span style="font-size:medium\;">Spring is a great time to create a pollinator-friendlyÂ garden... learn to create a "bee haven" in your own back yard!</span></p><p><span style="font-size:medium\;">Flower-filled gardens support countless species of bees andÂ otherÂ beneficial pollinators. Bee pollination brings us much of our food and supports most of our wildland plants. Interest in helping bee pollinators has never been greater\, but what can you do in your own garden to make sure it is bee-friendly? Christine Casey of the HÃ¤agen-Dazs Honey Bee Haven at UC Davis will present a review of common bees\, what they need to thrive\, and how we can provide that in our gardens. The class will continue out in the Gardens for a look at plants and bees.</span></p>
LOCATION:Mendocino Coast Botanical Gardens Fort Bragg
UID:e.2883.1155
SEQUENCE:3
DTSTAMP:20260424T075850Z
URL:http://mendocinocoast.smartcms.site/events/details/bee-haven-garden-walk-learn-03-08-2017-1155
END:VEVENT

END:VCALENDAR
