BEGIN:VCALENDAR
VERSION:2.0
PRODID:-//ChamberMaster//Event Calendar 2.0//EN
METHOD:PUBLISH
X-PUBLISHED-TTL:P3D
REFRESH-INTERVAL:P3D
CALSCALE:GREGORIAN
BEGIN:VEVENT
DTSTART:20190714T183000Z
DTEND:20190715T040000Z
X-MICROSOFT-CDO-ALLDAYEVENT:FALSE
SUMMARY:Bastille Day Celebration
DESCRIPTION:All day event at the Ledford House Restaurant\, Petanque tournament starts at 10 am\, Lunch starts at 11:30 and Dinner @ 5:00. Day time music is Dorian May and Co. Night time music is John & Nina Gilmore & Co.
X-ALT-DESC;FMTTYPE=text/html:All day event at the Ledford House Restaurant\, Petanque tournament starts at 10 am\, Lunch starts at 11:30 and Dinner @ 5:00. Day time music is Dorian May and Co. Night time music is John &amp\; Nina Gilmore &amp\; Co.
LOCATION:the Ledford House Restaurant 3000 N. Highway One Albion\, Ca
UID:e.2883.11770
SEQUENCE:3
DTSTAMP:20260422T075930Z
URL:http://mendocinocoast.smartcms.site/events/details/bastille-day-celebration-11770
END:VEVENT

END:VCALENDAR
