BEGIN:VCALENDAR
VERSION:2.0
PRODID:-//ChamberMaster//Event Calendar 2.0//EN
METHOD:PUBLISH
X-PUBLISHED-TTL:P3D
REFRESH-INTERVAL:P3D
CALSCALE:GREGORIAN
BEGIN:VEVENT
DTSTART:20180624T010000Z
DTEND:20180630T160000Z
X-MICROSOFT-CDO-ALLDAYEVENT:FALSE
SUMMARY:Balkan Music and Dance Camp
DESCRIPTION:Since 1977\, the Balkan Music & Dance Camp has been gathering amidst the towering redwoods of the Northern California coast. Each year we welcome new friends along with old\, as musicians and dancers and those who love them come together with our extraordinary teaching staff for a memorable week. A unique opportunity to join in a celebration of Balkan music\, dance and traditions\, the camp also offers folklore presentations\, staff and student concerts\, jam sessions and incredible evening events with live music. Last day for registration is June 1: Visit https://eefc.org/balkan-camp/west-coast/ to register for Balkan Music and Dance Camp today!
X-ALT-DESC;FMTTYPE=text/html:Since 1977\, the Balkan Music &amp\; Dance Camp has been gathering amidst the towering redwoods of the Northern California coast. Each year we welcome new friends along with old\, as musicians and dancers and those who love them come together with our extraordinary teaching staff for a memorable week. A unique opportunity to join in a celebration of Balkan music\, dance and traditions\, the camp also offers folklore presentations\, staff and student concerts\, jam sessions and incredible evening events with live music. Last day for registration is June 1: Visit https://eefc.org/balkan-camp/west-coast/ to register for Balkan Music and Dance Camp today!
LOCATION:Mendocino Woodlands\, 39350 Little Lake Rd\, Mendocino\, CA 95460
UID:e.2883.8764
SEQUENCE:3
DTSTAMP:20260423T055805Z
URL:http://mendocinocoast.smartcms.site/events/details/balkan-music-and-dance-camp-8764
END:VEVENT

END:VCALENDAR
