BEGIN:VCALENDAR
VERSION:2.0
PRODID:-//ChamberMaster//Event Calendar 2.0//EN
METHOD:PUBLISH
X-PUBLISHED-TTL:P3D
REFRESH-INTERVAL:P3D
CALSCALE:GREGORIAN
BEGIN:VEVENT
DTSTART:20180714T170000Z
DTEND:20180714T210000Z
X-MICROSOFT-CDO-ALLDAYEVENT:FALSE
SUMMARY:Auditions for James and the Giant Peach
DESCRIPTION:Auditions for James and the Giant Peach\n\n\n\nWords & Music by Benj Pasek & Justin Paul\n\nBook by Timothy Allen McDonald\n\nBased on the book James and the Giant Peach by Roald Dahl\n\n\n\nDirected by Nicole Atkinson and Carla Leach\n\n\n\nAUDITIONS: Auditions will be held July 14th from 10am - 2pm at Eagles Hall in Fort Bragg.\n\n\n\nFill out an audition form here: http://www.gloriana.org/james-auditions/\n\n\n\nTHE STORY: When James is sent by his conniving aunts to chop down their old fruit tree\, he discovers a magic potion that results in a tremendous peach... and launches a journey of enormous proportions. Suddenly\, James finds himself in the center of the gigantic peach\, among human-sized insects with equally oversized personalities\, but after it falls from the tree and rolls into the ocean\, the group faces hunger\, sharks and plenty of disagreements. Thanks to James' quick wit and creative thinking\, the residents learn to live and work together as a family. The dangerous voyage is a success\, but the adventure takes a whole new twist once they land on the Empire State Building.\n\n\n\nA delightfully offbeat adaptation of the classic Roald Dahl adventure\, the creative possibilities with James and the Giant Peach are endless. Actors will love playing the outlandish characters and performing brand new material from one of Broadway's hottest duos\, Pasek & Paul (Dear Evan Hansen\, Dogfight\, A Christmas Story).\n\n\n\nCASTING: Due to the vocal demands of the role of James\, we will consider boys and girls ages from 7 to 15. All other lead roles we are ideally looking for teens to adults but we will consider everyone. Ensemble is 7 and up. \n\n\n\nREHEARSALS: Rehearsals will begin mid-August. Rehearsal days and times will be announced soon. Depending on the role\, certain actors may not be called for every rehearsal.\n\n\n\nCONFLICTS: Conflicts are allowed up until two weeks before the production opens. Auditionees should bring their schedule with them to auditions and list all conflicts on the audition form. Conflicts can factor into casting so it is important that all conflicts are listed on the audition form. \n\n\n\nPERFORMANCES: October 5 - 21. Friday   Saturday evenings at 7:30 and Sunday matinees at 3:00. 9 performances.
X-ALT-DESC;FMTTYPE=text/html:<span style="color:rgb(29\, 33\, 41)\; font-family:system-ui\,-apple-system\,system-ui\,.sfnstext-regular\,sans-serif\; font-size:14px">Auditions for James and the Giant Peach</span><br />\n<br />\n<span style="color:rgb(29\, 33\, 41)\; font-family:system-ui\,-apple-system\,system-ui\,.sfnstext-regular\,sans-serif\; font-size:14px">Words &amp\; Music by Benj Pasek &amp\; Justin Paul</span><br />\n<span style="color:rgb(29\, 33\, 41)\; font-family:system-ui\,-apple-system\,system-ui\,.sfnstext-regular\,sans-serif\; font-size:14px">Book by Timothy Allen McDonald</span><br />\n<span style="color:rgb(29\, 33\, 41)\; font-family:system-ui\,-apple-system\,system-ui\,.sfnstext-regular\,sans-serif\; font-size:14px">Based on the book James and the Giant Peach by Roald Dahl</span><br />\n<br />\n<span style="color:rgb(29\, 33\, 41)\; font-family:system-ui\,-apple-system\,system-ui\,.sfnstext-regular\,sans-serif\; font-size:14px">Directed by Nicole Atkinson and Carla Leach</span><br />\n<br />\n<span style="color:rgb(29\, 33\, 41)\; font-family:system-ui\,-apple-system\,system-ui\,.sfnstext-regular\,sans-serif\; font-size:14px">AUDITIONS: Auditions will be held July 14th from 10am - 2pm at Eagles Hall in Fort Bragg.</span><br />\n<br />\n<span style="color:rgb(29\, 33\, 41)\; font-family:system-ui\,-apple-system\,system-ui\,.sfnstext-regular\,sans-serif\; font-size:14px">Fill out an audition form here:&nbsp\;</span><a href="https://l.facebook.com/l.php?u=http%3A%2F%2Fwww.gloriana.org%2Fjames-auditions%2F&amp\;h=AT29YkhDpQoss4g9bKeyiZQD982_O1rGoB6QPdrs4iTn0NgHVf8iStFrPyk9UYWrMAKBJp5nl7n5RzD7QYC1enC__buUMDbxHexl3mKkgzJHRsl2qn4r93ZuB1QjIucOKnu8A6SzKYHMv3utjKRUT88&amp\;s=1" style="color: rgb(54\, 88\, 153)\; cursor: pointer\; text-decoration-line: none\; font-family: system-ui\, -apple-system\, system-ui\, &quot\;.SFNSText-Regular&quot\;\, sans-serif\; font-size: 14px\;" target="_blank">http://www.gloriana.org/james-auditions/</a><br />\n<br />\n<span style="color:rgb(29\, 33\, 41)\; font-family:system-ui\,-apple-system\,system-ui\,.sfnstext-regular\,sans-serif\; font-size:14px">THE STORY: When James is sent by his conniving aunts to chop down their old fruit tree\, he discovers a magic potion that results in a tremendous peach... and launches a journey of enormous proportions. Suddenly\, James finds himself in the center of the gigantic peach\, among human-sized insects with equally oversized personalities\, but after it falls from the tree and rolls into the ocean\, the group faces hunger\, sharks and plenty of disagreements. Thanks to James&#39\; quick wit and creative thinking\, the residents learn to live and work together as a family. The dangerous voyage is a success\, but the adventure takes a whole new twist once they land on the Empire State Building.</span><br />\n<br />\n<span style="color:rgb(29\, 33\, 41)\; font-family:system-ui\,-apple-system\,system-ui\,.sfnstext-regular\,sans-serif\; font-size:14px">A delightfully offbeat adaptation of the classic Roald Dahl adventure\, the creative possibilities with James and the Giant Peach are endless. Actors will love playing the outlandish characters and performing brand new material from one of Broadway&#39\;s hottest duos\, Pasek &amp\; Paul (Dear Evan Hansen\, Dogfight\, A Christmas Story).</span><br />\n<br />\n<span style="color:rgb(29\, 33\, 41)\; font-family:system-ui\,-apple-system\,system-ui\,.sfnstext-regular\,sans-serif\; font-size:14px">CASTING: Due to the vocal demands of the role of James\, we will consider boys and girls ages from 7 to 15. All other lead roles we are ideally looking for teens to adults but we will consider everyone. Ensemble is 7 and up.&nbsp\;</span><br />\n<br />\n<span style="color:rgb(29\, 33\, 41)\; font-family:system-ui\,-apple-system\,system-ui\,.sfnstext-regular\,sans-serif\; font-size:14px">REHEARSALS: Rehearsals will begin mid-August. Rehearsal days and times will be announced soon. Depending on the role\, certain actors may not be called for every rehearsal.</span><br />\n<br />\n<span style="color:rgb(29\, 33\, 41)\; font-family:system-ui\,-apple-system\,system-ui\,.sfnstext-regular\,sans-serif\; font-size:14px">CONFLICTS: Conflicts are allowed up until two weeks before the production opens. Auditionees should bring their schedule with them to auditions and list all conflicts on the audition form. Conflicts can factor into casting so it is important that all conflicts are listed on the audition form.&nbsp\;</span><br />\n<br />\n<span style="color:rgb(29\, 33\, 41)\; font-family:system-ui\,-apple-system\,system-ui\,.sfnstext-regular\,sans-serif\; font-size:14px">PERFORMANCES: October 5 - 21. Friday &ndash\; Saturday evenings at 7:30 and Sunday matinees at 3:00. 9 performances.</span>
LOCATION:Eagles Hall - 210 N Corry\, Fort Bragg
UID:e.2883.8996
SEQUENCE:3
DTSTAMP:20260423T040835Z
URL:http://mendocinocoast.smartcms.site/events/details/auditions-for-james-and-the-giant-peach-8996
END:VEVENT

END:VCALENDAR
