BEGIN:VCALENDAR
VERSION:2.0
PRODID:-//ChamberMaster//Event Calendar 2.0//EN
METHOD:PUBLISH
X-PUBLISHED-TTL:P3D
REFRESH-INTERVAL:P3D
CALSCALE:GREGORIAN
BEGIN:VEVENT
DTSTART:20170715T180000Z
DTEND:20170715T220000Z
X-MICROSOFT-CDO-ALLDAYEVENT:FALSE
SUMMARY:Auditions For Gloriana's Hurricane Smith
DESCRIPTION:Directed by Andrew Atkinson and David Kosonen\n\n \n\nAlternate audition date available for those unable to attend on July 15. Please e-mail producer Nicole at nicolemreiter@gmail.com for more information.\n\n\n\nAges 10 to adult preferred. Will make exceptions based on comedic ability/maturity. This is comedy/satire show that needs to flow non stop. Auditions will consist of singing and reading from the script. Please prepare a song that shows off your vocal range.\n\n\n\nSign up at http://www.gloriana.org/audition-form\n\n\n\nScript available for perusal.\n\n\n\nShow dates: Performances will run November 3 - 19. Friday and Saturday at 7:30 and Sundays at 3:00 (must be available for all performance dates)\n\n\n\nRehearsals begin late August/early September. Rehearsal schedule TBA based on the availability of cast and crew.\n\n\n\nPlot: The setting is the stage of a school auditorium where a schlock film director is wrapping up his latest epic\, 'Monster On Campus.' Enter Gloria Daily\, fresh from her creative writing class\, with an Indiana Jones-like script under her arm. Trailing behind her are members of the drama club who intend to 'act out' the wild plot for the disagreeable film director. And what a plot! It concerns Hurricane Smith\, famous explorer\, whose mother was eaten by crocodiles and whose father disappeared in the Amazon jungles on a search for the fabled 'Garden of the Golden Monkey.' Parentless\, Hurricane is raised by a gorilla. Twenty years later a mysterious foreigner delivers a 'Golden Monkey' to Hurricane\, and the young adventurer sets out to discover its meaning.
X-ALT-DESC;FMTTYPE=text/html:<span style="font-family: Verdana\, Arial\; font-size: 11px\;">Directed by Andrew Atkinson and David Kosonen<br />\n&#8203\;</span><br />\n<span style="margin: 0px\; font-family: Verdana\, Arial\; font-size: 11px\;">Alternate audition date available for those unable to attend on July 15. Please e-mail producer Nicole at nicolemreiter@gmail.com for more information.</span><br style="margin: 0px\; font-family: Verdana\, Arial\; font-size: 11px\;" />\n<br style="margin: 0px\; font-family: Verdana\, Arial\; font-size: 11px\;" />\n<span style="margin: 0px\; font-family: Verdana\, Arial\; font-size: 11px\;">Ages 10 to adult preferred. Will make exceptions based on comedic ability/maturity. This is comedy/satire show that needs to flow non stop. Auditions will consist of singing and reading from the script. Please prepare a song that shows off your vocal range.</span><br style="margin: 0px\; font-family: Verdana\, Arial\; font-size: 11px\;" />\n<br style="margin: 0px\; font-family: Verdana\, Arial\; font-size: 11px\;" />\n<span style="margin: 0px\; font-family: Verdana\, Arial\; font-size: 11px\;">Sign up at&nbsp\;</span><a href="http://www.gloriana.org/audition-form" style="margin: 0px\; color: rgb(0\, 0\, 153)\; text-decoration: none\; font-family: Verdana\, Arial\; font-size: 11px\;" target="_blank"><span style="margin: 0px\;">http://www.gloriana.org/</span>audition-form</a><br style="margin: 0px\; font-family: Verdana\, Arial\; font-size: 11px\;" />\n<br style="margin: 0px\;" />\n<span style="margin: 0px\; font-family: Verdana\, Arial\; font-size: 11px\;">Script available for perusal.<br style="margin: 0px\;" />\n<br style="margin: 0px\;" />\nShow dates: Performances will run November 3 - 19. Friday and Saturday at 7:30 and Sundays at 3:00 (must be available for all performance dates)<br style="margin: 0px\;" />\n<br style="margin: 0px\;" />\nRehearsals begin late August/early September. Rehearsal schedule TBA based on the availability of cast and crew.<br style="margin: 0px\;" />\n<br style="margin: 0px\;" />\nPlot: The setting is the stage of a school auditorium where a schlock film director is wrapping up his latest epic\, &rsquo\;Monster On Campus.&rsquo\; Enter Gloria Daily\, fresh from her creative writing class\, with an Indiana Jones-like script under her arm. Trailing behind her are members of the drama club who intend to &rsquo\;act out&rsquo\; the wild plot for the disagreeable film director. And what a plot! It concerns Hurricane Smith\, famous explorer\, whose mother was eaten by crocodiles and whose father disappeared in the Amazon jungles on a search for the fabled &rsquo\;Garden of the Golden Monkey.&rsquo\; Parentless\, Hurricane is raised by a gorilla. Twenty years later a mysterious foreigner delivers a &rsquo\;Golden Monkey&rsquo\; to Hurricane\, and the young adventurer sets out to discover its meaning.</span>
LOCATION:Teen Lounge\, 208 Dana St\, Fort Bragg\, CA
UID:e.2883.1527
SEQUENCE:3
DTSTAMP:20260424T011413Z
URL:http://mendocinocoast.smartcms.site/events/details/auditions-for-gloriana-s-hurricane-smith-1527
END:VEVENT

END:VCALENDAR
