BEGIN:VCALENDAR
VERSION:2.0
PRODID:-//ChamberMaster//Event Calendar 2.0//EN
METHOD:PUBLISH
X-PUBLISHED-TTL:P3D
REFRESH-INTERVAL:P3D
CALSCALE:GREGORIAN
BEGIN:VEVENT
DTSTART:20191130T230000Z
DTEND:20191201T010000Z
X-MICROSOFT-CDO-ALLDAYEVENT:FALSE
SUMMARY:Artist's Reception\, Talk and Poetry Reading - JONATHAN PAZER - Abstract & Pinhole Photography
DESCRIPTION:Special Closing Reception for "Seven Dimensions of the Unseen and New Work"\, photography of constructed lightscapes\, and digital pinhole landscapes\, with accompanying poetry\, by Jonathan Pazer. Refreshments served. Book Signing.\n\nPoetry reading and artist's talk at 4pm.
X-ALT-DESC;FMTTYPE=text/html:Special Closing Reception for "Seven Dimensions of the Unseen and New Work"\, photography of constructed lightscapes\, and digital pinhole landscapes\, with accompanying poetry\, by Jonathan Pazer. Refreshments served. Book Signing.\n\nPoetry reading and artist's talk at 4pm.
LOCATION:Mendocino Art Center ? 45200 Little Lake Street ? Mendocino\, CA 95460
UID:e.2883.12445
SEQUENCE:3
DTSTAMP:20260422T011824Z
URL:http://mendocinocoast.smartcms.site/events/details/artist-s-reception-talk-and-poetry-reading-jonathan-pazer-abstract-pinhole-photography-12445
END:VEVENT

END:VCALENDAR
