BEGIN:VCALENDAR
VERSION:2.0
PRODID:-//ChamberMaster//Event Calendar 2.0//EN
METHOD:PUBLISH
X-PUBLISHED-TTL:P3D
REFRESH-INTERVAL:P3D
CALSCALE:GREGORIAN
BEGIN:VEVENT
DTSTART:20211127T220000Z
DTEND:20211128T000000Z
X-MICROSOFT-CDO-ALLDAYEVENT:FALSE
SUMMARY:Art in Action: Collage
DESCRIPTION:The Mendocino Art Center hosts "Art in Action\," a free\, hands-on collaging event open to the public\, held in conjunction with "Rock\, Paper\, Scissors\," an exhibition highlighting the collage works of Mendocino heritage artist Dorr Bothwell. Participants are encouraged to drop in and create individual collages or collaborate on a community wall collage.
X-ALT-DESC;FMTTYPE=text/html:The Mendocino Art Center hosts &ldquo\;Art in Action\,&rdquo\; a free\, hands-on collaging event open to the public\, held in conjunction with &ldquo\;Rock\, Paper\, Scissors\,&rdquo\; an exhibition highlighting the collage works of Mendocino heritage artist Dorr Bothwell. Participants are encouraged to drop in and create individual collages or collaborate on a community wall collage.
LOCATION:Mendocino Art Center 45200 Little Lake Street\, Mendocino
UID:e.2883.15992
SEQUENCE:3
DTSTAMP:20260420T114552Z
URL:http://mendocinocoast.smartcms.site/events/details/art-in-action-collage-15992
END:VEVENT

END:VCALENDAR
