BEGIN:VCALENDAR
VERSION:2.0
PRODID:-//ChamberMaster//Event Calendar 2.0//EN
METHOD:PUBLISH
X-PUBLISHED-TTL:P3D
REFRESH-INTERVAL:P3D
CALSCALE:GREGORIAN
BEGIN:VEVENT
DTSTART:20180224T000000Z
DTEND:20180224T013000Z
X-MICROSOFT-CDO-ALLDAYEVENT:FALSE
SUMMARY:Art Basel-Miami Beach Presentation with Bob Rhoades
DESCRIPTION:Mendocino Coast artist and educator Bob Rhoades shares his experiences and images from his weeklong trip to Art Basel-Miami Beach this past December.\n\nAt the Miami Beach show\, leading galleries from North America\, Latin America\, Europe\, Asia and Africa showed significant work from the masters of modern and contemporary art\, as well the new generation of emerging stars\, including paintings\, sculptures\, installations\, photographs\, films\, and editioned works of the highest quality. And\, ambitious large-scale artworks\, films and performances became part of the city's outdoor landscape at nearby parks.\n\nIn addition to Miami Beach\, Art Basel takes place annually in Hong Kong and Basel\, Switzerland.\n\nBOB RHOADES has been a full-time art instructor for over 40 years in several schools in California. The majority of his career was spent as Art Department Coordinator for College of the Redwoods\, Mendocino Coast. During this time Bob taught classes in painting\, drawing\, printmaking\, color and design and sculpture\, to name a few. Bob?s work has been exhibited in Japan\, Europe and extensively throughout California.
X-ALT-DESC;FMTTYPE=text/html:Mendocino Coast artist and educator Bob Rhoades shares his experiences and images from his weeklong trip to Art Basel-Miami Beach this past December.\n\nAt the Miami Beach show\, leading galleries from North America\, Latin America\, Europe\, Asia and Africa showed significant work from the masters of modern and contemporary art\, as well the new generation of emerging stars\, including paintings\, sculptures\, installations\, photographs\, films\, and editioned works of the highest quality. And\, ambitious large-scale artworks\, films and performances became part of the city's outdoor landscape at nearby parks.\n\nIn addition to Miami Beach\, Art Basel takes place annually in Hong Kong and Basel\, Switzerland.\n\nBOB RHOADES has been a full-time art instructor for over 40 years in several schools in California. The majority of his career was spent as Art Department Coordinator for College of the Redwoods\, Mendocino Coast. During this time Bob taught classes in painting\, drawing\, printmaking\, color and design and sculpture\, to name a few. Bob?s work has been exhibited in Japan\, Europe and extensively throughout California.
LOCATION:Mendocino Art Center 45200 Little Lake Street\, Mendocino
UID:e.2883.5532
SEQUENCE:3
DTSTAMP:20260423T121729Z
URL:http://mendocinocoast.smartcms.site/events/details/art-basel-miami-beach-presentation-with-bob-rhoades-5532
END:VEVENT

END:VCALENDAR
