BEGIN:VCALENDAR
VERSION:2.0
PRODID:-//ChamberMaster//Event Calendar 2.0//EN
METHOD:PUBLISH
X-PUBLISHED-TTL:P3D
REFRESH-INTERVAL:P3D
CALSCALE:GREGORIAN
BEGIN:VEVENT
DTSTART:20171102T170000Z
DTEND:20171128T010000Z
X-MICROSOFT-CDO-ALLDAYEVENT:FALSE
SUMMARY:Arlene Reiss - Paintings: Two Years\, Two Coasts
DESCRIPTION:In November\, Partners Gallery is exhibiting the mixed media abstract paintings of Arlene Reiss in a show called "Two Years\, Two Coasts." This body of work represents the culmination of her artistic explorations over the last two years in her studios located on the Mendocino Coast and the Pacific Coast of Mexico. The acrylic and mixed media paintings in this collection reflect the contrasts in atmosphere she experiences in these two locations. There is a wide variety of work in this collection both in terms of size\, color intensity or subtlety\, texture\, and forms. They all share her personal feelings evoked by the colors and natural beauty of each coast.
X-ALT-DESC;FMTTYPE=text/html:In November\, Partners Gallery is exhibiting the mixed media abstract paintings of Arlene Reiss in a show called &ldquo\;Two Years\, Two Coasts.&rdquo\; This body of work represents the culmination of her artistic explorations over the last two years in her studios located on the Mendocino Coast and the Pacific Coast of Mexico. The acrylic and mixed media paintings in this collection reflect the contrasts in atmosphere she experiences in these two locations. There is a wide variety of work in this collection both in terms of size\, color intensity or subtlety\, texture\, and forms. They all share her personal feelings evoked by the colors and natural beauty of each coast.
LOCATION:335 N. Franklin St near Laurel Fort Bragg\, CA
UID:e.2883.5295
SEQUENCE:3
DTSTAMP:20260423T191355Z
URL:http://mendocinocoast.smartcms.site/events/details/arlene-reiss-paintings-two-years-two-coasts-5295
END:VEVENT

END:VCALENDAR
