BEGIN:VCALENDAR
VERSION:2.0
PRODID:-//ChamberMaster//Event Calendar 2.0//EN
METHOD:PUBLISH
X-PUBLISHED-TTL:P3D
REFRESH-INTERVAL:P3D
CALSCALE:GREGORIAN
BEGIN:VEVENT
DTSTART:20180120T020000Z
DTEND:20180120T040000Z
X-MICROSOFT-CDO-ALLDAYEVENT:FALSE
SUMMARY:Annual MUSE Crab Feed
DESCRIPTION:Annual MUSE(Mendocino Unified School Enrichment) Crab Feed\, Friday January 19\, 2018\, 6PM at the Little River Inn\, Abalone Room.  Featuring the Mendocino High School Improv\, directed by Doug Nunn.  This event is a sell out every year!  Call the Little River Inn for reservations\, 707-937-5942.
X-ALT-DESC;FMTTYPE=text/html:<span style="color: rgb(0\, 0\, 0)\; font-family: Helvetica\; font-size: 14px\;">Annual MUSE(Mendocino Unified School Enrichment) Crab Feed\, Friday January 19\, 2018\, 6PM at the Little River Inn\, Abalone Room. &nbsp\;Featuring the Mendocino High School Improv\, directed by Doug Nunn. &nbsp\;This event is a sell out every year! &nbsp\;Call the Little River Inn for reservations\, 707-937-5942.</span>
LOCATION:
UID:e.2883.5474
SEQUENCE:3
DTSTAMP:20260423T140911Z
URL:http://mendocinocoast.smartcms.site/events/details/annual-muse-crab-feed-5474
END:VEVENT

END:VCALENDAR
