BEGIN:VCALENDAR
VERSION:2.0
PRODID:-//ChamberMaster//Event Calendar 2.0//EN
METHOD:PUBLISH
X-PUBLISHED-TTL:P3D
REFRESH-INTERVAL:P3D
CALSCALE:GREGORIAN
BEGIN:VEVENT
DTSTART;VALUE=DATE:20170317
DTEND;VALUE=DATE:20170318
TRANSP:TRANSPARENT
X-MICROSOFT-CDO-ALLDAYEVENT:TRUE
SUMMARY:Annual "Environmental Potluck"
DESCRIPTION:Annual "Environmental Potluck"Monday\, March 20\, 2017Â Dinner begins at 6pm and followed by thePresentation of Award at 7pm.Â You are Cordially Invited To Join Us for the Annual "Environmental Potluck" and Presentation of the Matthew Coleman\, Environmental Service Award.Â This yearâ€™s potluck is being hosted by the Mendocino Coast Audubon Society.Contact: David Jensen\, President\, MCASÂ Â djensen@mcn.org (707) 964-8163
X-ALT-DESC;FMTTYPE=text/html:<table border="0" cellspacing="0" cellpadding="0" width="600"><tbody><tr><td colspan="2" valign="top"><p><strong>Annual "Environmental Potluck"</strong></p></td></tr><tr><td width="470" valign="top"><p>Monday\, March 20\, 2017</p><p>Â </p><p>Dinner begins at 6pm and followed by the</p><p>Presentation of Award at 7pm.</p><p>Â </p><p>You are Cordially Invited To Join Us for the Annual "Environmental Potluck" and Presentation of the Matthew Coleman\, Environmental Service Award.</p><p>Â </p><p>This yearâ€™s potluck is being hosted by the Mendocino Coast Audubon Society.</p><p>Contact: David Jensen\, President\, MCASÂ Â <a href="mailto:djensen@mcn.org">djensen@mcn.org</a> (707) 964-8163</p></td></tr></tbody></table>
LOCATION:Caspar Community Center
UID:e.2883.1160
SEQUENCE:3
DTSTAMP:20260424T075855Z
URL:http://mendocinocoast.smartcms.site/events/details/annual-environmental-potluck-03-17-2017-1160
END:VEVENT

END:VCALENDAR
