BEGIN:VCALENDAR
VERSION:2.0
PRODID:-//ChamberMaster//Event Calendar 2.0//EN
METHOD:PUBLISH
X-PUBLISHED-TTL:P3D
REFRESH-INTERVAL:P3D
CALSCALE:GREGORIAN
BEGIN:VEVENT
DTSTART:20190217T023000Z
DTEND:20190217T053000Z
X-MICROSOFT-CDO-ALLDAYEVENT:FALSE
SUMMARY:Annual Chinese New Years Banquet
DESCRIPTION:Annual Fundraiser for the Temple of Kwan Tai in Mendocino. One of the six original Taoist temple from the 1800's. There will be a banquet and a silent auction on behalf of the temple.
X-ALT-DESC;FMTTYPE=text/html:Annual Fundraiser for the Temple of Kwan Tai in Mendocino. One of the six original Taoist temple from the 1800&#39\;s. There will be a banquet and a silent auction on behalf of the temple.
LOCATION:Crown Hall \, West on Ukiah Street\, Mendocino
UID:e.2883.10388
SEQUENCE:3
DTSTAMP:20260422T162048Z
URL:http://mendocinocoast.smartcms.site/events/details/annual-chinese-new-years-banquet-10388
END:VEVENT

END:VCALENDAR
