BEGIN:VCALENDAR
VERSION:2.0
PRODID:-//ChamberMaster//Event Calendar 2.0//EN
METHOD:PUBLISH
X-PUBLISHED-TTL:P3D
REFRESH-INTERVAL:P3D
CALSCALE:GREGORIAN
BEGIN:VEVENT
DTSTART:20180218T023000Z
DTEND:20180218T043000Z
X-MICROSOFT-CDO-ALLDAYEVENT:FALSE
SUMMARY:Annual Chinese New Year's Dinner
DESCRIPTION:Annual Chinese New Year's Banquet fundraiser for the Temple of Kwan Tai. Limited seating.
X-ALT-DESC;FMTTYPE=text/html:Annual Chinese New Year&#39\;s Banquet fundraiser for the Temple of Kwan Tai. Limited seating.
LOCATION:Mendocino CA
UID:e.2883.5511
SEQUENCE:3
DTSTAMP:20260423T122038Z
URL:http://mendocinocoast.smartcms.site/events/details/annual-chinese-new-year-s-dinner-5511
END:VEVENT

END:VCALENDAR
