BEGIN:VCALENDAR
VERSION:2.0
PRODID:-//ChamberMaster//Event Calendar 2.0//EN
METHOD:PUBLISH
X-PUBLISHED-TTL:P3D
REFRESH-INTERVAL:P3D
CALSCALE:GREGORIAN
BEGIN:VEVENT
DTSTART:20180215T184500Z
DTEND:20180215T194500Z
X-MICROSOFT-CDO-ALLDAYEVENT:FALSE
SUMMARY:Annual Chinese New Year's Children's parade
DESCRIPTION:Annual Mendocino -Fort Bragg Chinese New Year's Parade. The parade will start at the corner of Ukiah & Lansing and march down to Main Street and turn right on Kasten and than left on Albion and end at the Temple of Kwan Tai.
X-ALT-DESC;FMTTYPE=text/html:Annual Mendocino -Fort Bragg Chinese New Year&#39\;s Parade. The parade will start at the corner of Ukiah &amp\; Lansing and march down to Main Street and turn right on Kasten and than left on Albion and end at the Temple of Kwan Tai.
LOCATION:Mendocino
UID:e.2883.5510
SEQUENCE:3
DTSTAMP:20260423T122203Z
URL:http://mendocinocoast.smartcms.site/events/details/annual-chinese-new-year-s-children-s-parade-5510
END:VEVENT

END:VCALENDAR
