BEGIN:VCALENDAR
VERSION:2.0
PRODID:-//ChamberMaster//Event Calendar 2.0//EN
METHOD:PUBLISH
X-PUBLISHED-TTL:P3D
REFRESH-INTERVAL:P3D
CALSCALE:GREGORIAN
BEGIN:VEVENT
DTSTART:20200216T023000Z
DTEND:20200216T043000Z
X-MICROSOFT-CDO-ALLDAYEVENT:FALSE
SUMMARY:Annual Chinese New Banquet
DESCRIPTION:Could you please announce the following\; The Temple of Kwan Tai is pleased to announce the LAST Chinese New Year's Banquet. The dinner will be on Feb 15th and will be hosted at Crown Hall located on Ukiah Street in Mendocino. The dinner will begin at 6:30 along with a silent auction. All monies raised will go towards the efforts for the continued preservation of the Temple Kwan Tai and it's artifacts. Seating is limited and you may call for tickets at (707)972-9831 or email griffith@mcn.org
X-ALT-DESC;FMTTYPE=text/html:Could you please announce the following\; The Temple of Kwan Tai is pleased to announce the LAST Chinese New Year&rsquo\;s Banquet. The dinner will be on Feb 15th and will be hosted at Crown Hall located on Ukiah Street in Mendocino. The dinner will begin at 6:30 along with a silent auction. All monies raised will go towards the efforts for the continued preservation of the Temple Kwan Tai and it&rsquo\;s artifacts. Seating is limited and you may call for tickets at (707)972-9831 or email griffith@mcn.org
LOCATION:Mendocino\, CA
UID:e.2883.12617
SEQUENCE:3
DTSTAMP:20260421T201411Z
URL:http://mendocinocoast.smartcms.site/events/details/annual-chinese-new-banquet-12617
END:VEVENT

END:VCALENDAR
