BEGIN:VCALENDAR
VERSION:2.0
PRODID:-//ChamberMaster//Event Calendar 2.0//EN
METHOD:PUBLISH
X-PUBLISHED-TTL:P3D
REFRESH-INTERVAL:P3D
CALSCALE:GREGORIAN
BEGIN:VEVENT
DTSTART:20171001T020000Z
DTEND:20171001T033000Z
X-MICROSOFT-CDO-ALLDAYEVENT:FALSE
SUMMARY:An Evening of Local History
DESCRIPTION:Come hear the history of the jewel of Fort Bragg ~ The Guest House\n\n\n\nThe Fort Bragg Mendocin Coast Historical Society will sharing the history of the Guest House in celebration of it's 125th birthday this year.
X-ALT-DESC;FMTTYPE=text/html:<div>\n<p><span style="font-family:comic sans ms"><span style="font-size:14px"><span style="font-size:16px">Come hear the history of the jewel of Fort Bragg ~ The Guest House</span></span><br />\n<br />\n<span style="font-size:16px">The Fort Bragg Mendocin Coast Historical Society will sharing the history of the Guest House in celebration of it&rsquo\;s 125th birthday this year.</span></span></p>\n</div>\n\n<div>&nbsp\;</div>\n
LOCATION:Fort Bragg Library 499 East Laurel St. Fort Bragg\, CA 95437
UID:e.2883.4434
SEQUENCE:3
DTSTAMP:20260423T215416Z
URL:http://mendocinocoast.smartcms.site/events/details/an-evening-of-local-history-4434
END:VEVENT

END:VCALENDAR
