BEGIN:VCALENDAR
VERSION:2.0
PRODID:-//ChamberMaster//Event Calendar 2.0//EN
METHOD:PUBLISH
X-PUBLISHED-TTL:P3D
REFRESH-INTERVAL:P3D
CALSCALE:GREGORIAN
BEGIN:VEVENT
DTSTART:20171031T190000Z
DTEND:20171103T010000Z
X-MICROSOFT-CDO-ALLDAYEVENT:FALSE
SUMMARY:ALTAR HALL AT FORT BRAGG LIBRARY
DESCRIPTION:SPONSORED BY FRIENDS OF HOSPICE: A LOVELY EXHIBIT OF PERSONAL ALTARS CELEBRATING DAY OF THE DEAD
X-ALT-DESC;FMTTYPE=text/html:SPONSORED BY FRIENDS OF HOSPICE: A LOVELY EXHIBIT OF PERSONAL ALTARS CELEBRATING DAY OF THE DEAD
LOCATION:FORT BRAGG PUBLIC LIBRARY MULTIPURPOSE ROOM
UID:e.2883.4447
SEQUENCE:3
DTSTAMP:20260423T201228Z
URL:http://mendocinocoast.smartcms.site/events/details/altar-hall-at-fort-bragg-library-4447
END:VEVENT

END:VCALENDAR
