BEGIN:VCALENDAR
VERSION:2.0
PRODID:-//ChamberMaster//Event Calendar 2.0//EN
METHOD:PUBLISH
X-PUBLISHED-TTL:P3D
REFRESH-INTERVAL:P3D
CALSCALE:GREGORIAN
BEGIN:VEVENT
DTSTART:20180415T020000Z
DTEND:20180415T040000Z
X-MICROSOFT-CDO-ALLDAYEVENT:FALSE
SUMMARY:Almost Fringe Poetry – Open Mic
DESCRIPTION:Celebrate National Poetry Month and the Almost Fringe Festival with an evening of Open Mic poetry reading.
X-ALT-DESC;FMTTYPE=text/html:Celebrate National Poetry Month and the Almost Fringe Festival with an evening of Open Mic poetry reading.
LOCATION:Town Hall 363 Main St Fort Bragg
UID:e.2883.5650
SEQUENCE:3
DTSTAMP:20260423T091416Z
URL:http://mendocinocoast.smartcms.site/events/details/almost-fringe-poetry-open-mic-5650
END:VEVENT

END:VCALENDAR
