BEGIN:VCALENDAR
VERSION:2.0
PRODID:-//ChamberMaster//Event Calendar 2.0//EN
METHOD:PUBLISH
X-PUBLISHED-TTL:P3D
REFRESH-INTERVAL:P3D
CALSCALE:GREGORIAN
BEGIN:VEVENT
DTSTART:20180413T180000Z
DTEND:20180415T230000Z
X-MICROSOFT-CDO-ALLDAYEVENT:FALSE
SUMMARY:Almost Fringe Festival events at the Ford House Visitor Center
DESCRIPTION:Almost Fringe Festival event going on throughout Mendocino April 13th\, 14th\, and 15th. The Ford House will have a mushroom display for viewing  Friday through Sunday\, and a mushroom dying class will take place on Saturday and Sunday 1-4 pm where you can learn how to dye yarn and cloth with all the colors under the rainbow using mushrooms.  Sponsored by the Mendocino County Mushroom Club.
X-ALT-DESC;FMTTYPE=text/html:<p>Almost Fringe Festival event going on throughout Mendocino April 13th\, 14th\, and 15th. The Ford House will have a mushroom display for viewing&nbsp\; Friday through Sunday\, and a mushroom dying class will take place on Saturday and Sunday 1-4 pm where you can learn how to dye yarn and cloth with all the colors under the rainbow using mushrooms.&nbsp\; Sponsored by the Mendocino County Mushroom Club.</p>\n
LOCATION:Ford House Visitor Center and Museum located at 45035 Main Street Mendocino\, CA 95460
UID:e.2883.5546
SEQUENCE:3
DTSTAMP:20260423T091747Z
URL:http://mendocinocoast.smartcms.site/events/details/almost-fringe-festival-events-at-the-ford-house-visitor-center-5546
END:VEVENT

END:VCALENDAR
