BEGIN:VCALENDAR
VERSION:2.0
PRODID:-//ChamberMaster//Event Calendar 2.0//EN
METHOD:PUBLISH
X-PUBLISHED-TTL:P3D
REFRESH-INTERVAL:P3D
CALSCALE:GREGORIAN
BEGIN:VEVENT
DTSTART;VALUE=DATE:20170403
DTEND;VALUE=DATE:20170404
TRANSP:TRANSPARENT
X-MICROSOFT-CDO-ALLDAYEVENT:TRUE
SUMMARY:Almost Fringe Festival
DESCRIPTION:This April\, Mendocino County beckons as we hold our first Almost Fringe Festival\, a month-long festival celebrating all the creative happenings countywide. To shine the spotlight evenly\, weâ€™ve created dedicated weekends throughout the county so each locale has its chance to shine. March 31\, April 1\, 2: Redwood Corridor (Hopland\, Ukiah\, Willits)\; April 7\, 8\, 9: North Coast (Mendocino\, Fort Bragg)\; April 21\, 22\, 23: Anderson Valley (Yorkville\, Boonville\, Philo)\; April 28\, 29\, 30: South Coast (Elk\, Pt Arena\, Gualala)In addition to great entertainment\, Almost Fringe offers curated ticket packages and amazing lodging options. Come enjoy art in the springtime with wine\, waves and wilderness.Click here for more info!
X-ALT-DESC;FMTTYPE=text/html:<p><span style="white-space: pre\;"> </span></p><div title="Page 1"><div><div><div><p><span>This April\, Mendocino County beckons as we hold our </span><span>fi</span><span>rst <strong>Almost Fringe Festival</strong>\, a month-long festival celebrating all the creative happenings countywide. To shine the spotlight evenly\, weâ€™ve created dedicated weekends throughout the county so each locale has its chance to shine. </span></p><p><span>March 31\, April 1\, 2: Redwood Corridor (Hopland\, Ukiah\, Willits)\; April 7\, 8\, 9: North Coast (Mendocino\, Fort Bragg)\; </span></p><p><span>April </span>21\, 22\, 23: Anderson Valley (Yorkville\, Boonville\, Philo)\; April 28\, 29\, 30: South Coast (Elk\, Pt Arena\, Gualala)</p></div></div></div></div><div title="Page 2"><div><div><div><p><span>In addition to great entertainment\, Almost Fringe o</span><span>ff</span><span>ers </span><span>curated </span></p><p><span>ticket packages </span><span>and </span><span>amazing lodging options.</span><span> Come enjoy art in the springtime with wine\, waves and wilderness.</span></p><p>Click <a href="https://www.visitmendocino.com/fringe/almost-fringe-festival-coast/">here</a> for more info!</p><p><span><br /></span></p></div></div></div></div>
LOCATION:Mendocino County Varies
UID:e.2883.1176
SEQUENCE:3
DTSTAMP:20260424T061133Z
URL:http://mendocinocoast.smartcms.site/events/details/almost-fringe-festival-04-03-2017-1176
END:VEVENT

END:VCALENDAR
