BEGIN:VCALENDAR
VERSION:2.0
PRODID:-//ChamberMaster//Event Calendar 2.0//EN
METHOD:PUBLISH
X-PUBLISHED-TTL:P3D
REFRESH-INTERVAL:P3D
CALSCALE:GREGORIAN
BEGIN:VEVENT
DTSTART:20190217T020000Z
DTEND:20190217T220000Z
X-MICROSOFT-CDO-ALLDAYEVENT:FALSE
SUMMARY:All the President's Men (1976) - Special Screening Feb. 16 & 17
DESCRIPTION:The Mendocino Film Festival and Ray Alarcon Insurance Agency present a special President's Day Weekend screening of the 1976 Oscar Award Winning classic All the President's Men. The film will screen at the Matheson Performing Arts Center in Mendocino on Saturday\, February 16\, at 6:00 pm and on Sunday\, February 17\, at 2:00 pm. The screenings will feature an introduction and post-film discussion with political comedian Will Durst. \n \n\nAbout Will Durst\, from his website WillDurst.com: Acknowledged by peers and press alike as one of the premier political satirists in the country\, Will Durst has patched together a comedy quilt of a career\, weaving together columns\, books\, radio and television commentaries\, acting\, voice overs and most especially\, stand up comedy\, into a hilarious patchwork of outraged and outrageous common sense. His abiding motto is "You can't make stuff up like this."\n \n\nAll the President's Men (1976) is the true story of two green reporters and rivals working for the Washington Post\, Bob Woodward (Robert Redford) and Carl Bernstein (Dustin Hoffman)\, researching the botched 1972 burglary of the Democratic Party Headquarters at the Watergate apartment complex. With the help of a mysterious source\, code-named Deep Throat (Hal Holbrook)\, the two reporters make a connection between the burglars and a White House staffer. Despite dire warnings about their safety\, the duo follows the money all the way to the top. (138 minutes\, PG)\n\n \n\nTickets are $12 and available for purchase online\, by phone\, or at the Mendocino Film Festival Office - 45062 Ukiah Street\, Mendocino\, CA 95460. The Matheson Performing Arts Center is located at 45096 Cahto St\, Mendocino\, CA 95460.
X-ALT-DESC;FMTTYPE=text/html:<p><span style="font-family:times new roman\; font-size:12pt">The Mendocino Film Festival and Ray Alarcon Insurance Agency present a special President&rsquo\;s Day Weekend screening of the 1976 Oscar Award Winning classic</span><em> </em><a href="http://allthepresidentsmen.eventbrite.com"><em>All the President&rsquo\;s Men</em></a><span style="font-family:times new roman\; font-size:12pt">. The film will screen at the Matheson Performing Arts Center in Mendocino on </span><strong>Saturday\, February 16\, at 6:00 pm and on Sunday\, February 17\, at 2:00 pm</strong><span style="font-family:times new roman\; font-size:12pt">. The screenings will feature an introduction and post-film discussion with political comedian Will Durst. </span></p>\n&nbsp\;\n\n<p><span style="font-family:times new roman\; font-size:12pt">About Will Durst\, from his website </span><a href="http://willdurst.com/index.html" style="text-decoration-line: none\;"><span style="color:rgb(17\, 85\, 204)\; font-family:times new roman\; font-size:12pt">WillDurst.com</span></a><span style="font-family:times new roman\; font-size:12pt">: Acknowledged by peers and press alike as one of the premier political satirists in the country\, Will Durst has patched together a comedy quilt of a career\, weaving together columns\, books\, radio and television commentaries\, acting\, voice overs and most especially\, stand up comedy\, into a hilarious patchwork of outraged and outrageous common sense. His abiding motto is &ldquo\;You can&rsquo\;t make stuff up like this.&quot\;</span></p>\n&nbsp\;\n\n<p><em>All the President&rsquo\;s Men </em><span style="font-family:times new roman\; font-size:12pt">(1976) is the true story of two green reporters and rivals working for the Washington Post\, Bob Woodward (Robert Redford) and Carl Bernstein (Dustin Hoffman)\, researching the botched 1972 burglary of the Democratic Party Headquarters at the Watergate apartment complex. With the help of a mysterious source\, code-named Deep Throat (Hal Holbrook)\, the two reporters make a connection between the burglars and a White House staffer. Despite dire warnings about their safety\, the duo follows the money all the way to the top. (138 minutes\, PG)</span><br />\n&nbsp\;</p>\n\n<p><span style="font-family:times new roman\; font-size:12pt">Tickets are $12 and available for purchase <a href="http://allthepresidentsmen.eventbrite.com">online</a>\, by phone\, or at the Mendocino Film Festival Office - 45062 Ukiah Street\, Mendocino\, CA 95460. The Matheson Performing Arts Center is located at 45096 Cahto St\, Mendocino\, CA 95460. </span></p>\n\n<div>&nbsp\;</div>\n
LOCATION:Matheson Performing Arts Center 45096 Cahto St. Mendocino\, CA 95460
UID:e.2883.10540
SEQUENCE:3
DTSTAMP:20260422T162237Z
URL:http://mendocinocoast.smartcms.site/events/details/all-the-president-s-men-1976-special-screening-feb-16-17-10540
END:VEVENT

END:VCALENDAR
