BEGIN:VCALENDAR
VERSION:2.0
PRODID:-//ChamberMaster//Event Calendar 2.0//EN
METHOD:PUBLISH
X-PUBLISHED-TTL:P3D
REFRESH-INTERVAL:P3D
CALSCALE:GREGORIAN
BEGIN:VEVENT
DTSTART:20240325T000000Z
DTEND:20240325T010000Z
X-MICROSOFT-CDO-ALLDAYEVENT:FALSE
SUMMARY:All About Sally @ Epperson's Unplugged
DESCRIPTION:All About Sally is a vocal harmony duet of David Alden and Sally Graney\, which performs Americana/Roots Music ranging from Civil War Era ballads to the songs of current singer songwriters such as John Prine and Gillian Welch.\n\n\nEpperson's Unplugged\n\nEvery 4th Sunday\, Epperson Music hosts a totally unplugged\, intimate show with local and regional artists. This includes a short interview and 4 - 5 song set. And we make a video for our Youtube channel. Come and be a part of this unique live event. And if you're an artist interested in playing\, send us an email at info@eppersonmusic.com.
X-ALT-DESC;FMTTYPE=text/html:<span style="font-size:16px\;"><b style="caret-color: rgb(26\, 26\, 26)\; color: rgb(26\, 26\, 26)\; font-family: Arial\; font-size: 12px\; text-size-adjust: auto\;">All About Sally<i>&nbsp\;</i></b></span><span style="caret-color: rgb(26\, 26\, 26)\; color: rgb(26\, 26\, 26)\; font-family: Arial\; font-size: 12px\; text-size-adjust: auto\;"><span style="font-size:16px\;">is a vocal harmony duet of David Alden and Sally Graney\, which performs Americana/Roots Music ranging from Civil War Era ballads to the songs of current singer songwriters such as John Prine and Gillian Welch.</span></span>\n<div style="caret-color: rgb(255\, 255\, 255)\; color: rgb(255\, 255\, 255)\; font-family: Helvetica\; font-size: 14px\; text-size-adjust: auto\;"><br />\n<span style="font-size:16px\;"><span style="font-family:arial\;"><span style="color:#000000\;">Epperson&#39\;s Unplugged</span></span></span></div>\n\n<div style="caret-color: rgb(255\, 255\, 255)\; color: rgb(255\, 255\, 255)\; font-family: Helvetica\; font-size: 14px\; text-size-adjust: auto\;"><span style="font-size:16px\;"><span style="font-family:arial\;"><span style="color:#000000\;">Every 4th Sunday\, Epperson Music hosts a totally unplugged\, intimate show with local and regional artists. This includes a short interview and 4 - 5 song set. And we make a video for our Youtube channel.&nbsp\;</span></span></span><span style="font-size:16px\;"><span style="font-family:arial\;"><span style="color:#000000\;">Come and be a part of this unique live event. And if you&#39\;re an artist interested in playing\, send us an email at </span><a href="mailto:info@eppersonmusic.com"><span style="color:#000000\;">info@eppersonmusic.com</span></a><span style="color:#000000\;">.</span></span></span></div>\n
LOCATION:Epperson Music\, 301 N. Main St. in the Company Store
UID:e.2883.26934
SEQUENCE:3
DTSTAMP:20260420T085448Z
URL:http://mendocinocoast.smartcms.site/events/details/all-about-sally-epperson-s-unplugged-26934
END:VEVENT

END:VCALENDAR
