BEGIN:VCALENDAR
VERSION:2.0
PRODID:-//ChamberMaster//Event Calendar 2.0//EN
METHOD:PUBLISH
X-PUBLISHED-TTL:P3D
REFRESH-INTERVAL:P3D
CALSCALE:GREGORIAN
BEGIN:VEVENT
DTSTART:20190327T213000Z
DTEND:20190328T003000Z
X-MICROSOFT-CDO-ALLDAYEVENT:FALSE
SUMMARY:All Aboard for a Trip Out to Sea!
DESCRIPTION:Join our Noyo Center Naturalists aboard the Telstar to explore the bounty of the sea. We'll discover birds\, fish\, sea lions\, or whales whatever the ocean serves up! $20 kids & $30 for adults Kids ages 8-18 get first priority but adults are welcome if boat doesn't fill up. Tickets are limited so please purchase in advance. For reservations contact: sarah@noyocenter.org\, or call (707) 813-7925. Meet Noyo staff in Noyo Harbor at the SeaPal Cove Dock at 2:30 p.m. Boat departs at 3:00 p.m. Seapal Cove Dock is located at 32390 N. Harbor Drive\, Fort Bragg\, CA.
X-ALT-DESC;FMTTYPE=text/html:Join our Noyo Center Naturalists aboard the Telstar to explore the&nbsp\;bounty of the sea. We&rsquo\;ll discover birds\, fish\, sea lions\, or whales&hellip\;whatever the ocean serves up! $20 kids &amp\;&nbsp\;$30 for adults Kids ages 8-18 get first priority&nbsp\;but adults are welcome if boat doesn&rsquo\;t fill up. Tickets are limited so please purchase in advance. For reservations contact: sarah@noyocenter.org\, or call (707) 813-7925. Meet Noyo staff in Noyo Harbor at the SeaPal Cove Dock at 2:30 p.m. Boat departs at 3:00 p.m. Seapal Cove Dock is located at 32390 N. Harbor Drive\, Fort Bragg\, CA.
LOCATION:Noyo Harbor Seapal Cove Dock 32390 N. Harbor Drive\, Fort Bragg\, CA 95437
UID:e.2883.11378
SEQUENCE:3
DTSTAMP:20260422T143930Z
URL:http://mendocinocoast.smartcms.site/events/details/all-aboard-for-a-trip-out-to-sea-11378
END:VEVENT

END:VCALENDAR
