BEGIN:VCALENDAR
VERSION:2.0
PRODID:-//ChamberMaster//Event Calendar 2.0//EN
METHOD:PUBLISH
X-PUBLISHED-TTL:P3D
REFRESH-INTERVAL:P3D
CALSCALE:GREGORIAN
BEGIN:VEVENT
DTSTART:20190519T200000Z
DTEND:20190519T230000Z
X-MICROSOFT-CDO-ALLDAYEVENT:FALSE
SUMMARY:Afternoon Kayaking on the Noyo River
DESCRIPTION:On Sunday May 19\, Liquid Fusion Kayaking and the Mendocino County Water Safety Coalition are hosting an afternoon of kayaking on the Noyo River. All ages are encouraged to attend. Kayak rentals are $20/adult and $10/youth and all proceeds benefit the Mendocino County Water Safety Coalition. The Mendocino County Water Safety Coalition is a nonprofit organization that promotes safe enjoyment of our local waters. The Coalition makes presentations on ocean safety at campgrounds and community events and produces and distributes brochures about ocean safety. The brochure "Oceans Twelve: 12 Tips for Seaside Safety" is available at the most frequently used ocean access points along the Mendocino Coast. Afternoon on the Noyo River will be held from 1-4pm. Kayaks are available on a first come\, first served basis. Liquid Fusion Kayaking is in Dolphin Isle Marina\, 32399 Basin Street\, Fort Bragg. This event will be held rain or shine. For more information\, check out http://www.liquidfusionkayak.com or call Cate or Jeff at Liquid Fusion Kayaking (707) 962-1623
X-ALT-DESC;FMTTYPE=text/html:On Sunday May 19\, Liquid Fusion Kayaking and the Mendocino County Water Safety Coalition are hosting an afternoon of kayaking on the Noyo River. All ages are encouraged to attend. Kayak rentals are $20/adult and $10/youth and all proceeds benefit the Mendocino County Water Safety Coalition. The Mendocino County Water Safety Coalition is a nonprofit organization that promotes safe enjoyment of our local waters. The Coalition makes presentations on ocean safety at campgrounds and community events and produces and distributes brochures about ocean safety. The brochure &ldquo\;Oceans Twelve: 12 Tips for Seaside Safety&rdquo\; is available at the most frequently used ocean access points along the Mendocino Coast. Afternoon on the Noyo River will be held from 1-4pm. Kayaks are available on a first come\, first served basis. Liquid Fusion Kayaking is in Dolphin Isle Marina\, 32399 Basin Street\, Fort Bragg. This event will be held rain or shine. For more information\, check out http://www.liquidfusionkayak.com or call Cate or Jeff at Liquid Fusion Kayaking (707) 962-1623
LOCATION:Liquid Fusion Kayaking in Dolphin Isle Marina 32399 Basin Street Fort Bragg\, CA 95437
UID:e.2883.11400
SEQUENCE:3
DTSTAMP:20260422T111358Z
URL:http://mendocinocoast.smartcms.site/events/details/afternoon-kayaking-on-the-noyo-river-11400
END:VEVENT

END:VCALENDAR
