BEGIN:VCALENDAR
VERSION:2.0
PRODID:-//ChamberMaster//Event Calendar 2.0//EN
METHOD:PUBLISH
X-PUBLISHED-TTL:P3D
REFRESH-INTERVAL:P3D
CALSCALE:GREGORIAN
BEGIN:VEVENT
DTSTART:20191109T210000Z
DTEND:20191110T000000Z
X-MICROSOFT-CDO-ALLDAYEVENT:FALSE
SUMMARY:Afternoon Crafting: Jeweled Acorn Caps
DESCRIPTION:Mendocino County Museum Interactive Room Join us for a FREE program celebrating the natural beauty of Mendocino County. Guests are invited to take a brief walk to gather acorn caps which will then be used to create acorn jewels. This event is in conjunction with the exhibit Natural Expressions: Art Inspired by Mendocino County. While supplies last\; all materials will be provided. For further information or questions call (707) 459-2736.
X-ALT-DESC;FMTTYPE=text/html:Mendocino County Museum Interactive Room Join us for a FREE program celebrating the natural beauty of Mendocino County. Guests are invited to take a brief walk to gather acorn caps which will then be used to create acorn jewels. This event is in conjunction with the exhibit Natural Expressions: Art Inspired by Mendocino County. While supplies last\; all materials will be provided. For further information or questions call (707) 459-2736.
LOCATION:Mendocino County Museum Interactive Room 400 E. Commercial St. Willits\, CA 95490
UID:e.2883.12447
SEQUENCE:3
DTSTAMP:20260422T011728Z
URL:http://mendocinocoast.smartcms.site/events/details/afternoon-crafting-jeweled-acorn-caps-12447
END:VEVENT

END:VCALENDAR
